BEGIN:VCALENDAR
VERSION:2.0
PRODID:-//ChamberMaster//Event Calendar 2.0//EN
METHOD:PUBLISH
X-PUBLISHED-TTL:P3D
REFRESH-INTERVAL:P3D
CALSCALE:GREGORIAN
BEGIN:VEVENT
DTSTART:20151210T200000Z
DTEND:20151210T220000Z
X-MICROSOFT-CDO-ALLDAYEVENT:FALSE
SUMMARY:Workshop: ACI eManifest 'Drive Through'
DESCRIPTION:With less than 30 days for the ACI eManifest monetary AMPS penalties to come into force\, many carriers not already signed up are finding that they have reached the end of the road. To help company drivers\, owner operators\, dispatchers and carriers interested in cross-border transport get on board this new regulation\, Pacific Customs Brokers is running an ACI eManifest Fast Track lunch-and-learn workshop. Buckle up for a quick\, two-hour\, hands-on workshop on ACI eManifest submission options\, requirements and paperwork. You will hit the road with a full understanding of: How-to fill out an ACI eManifest request form How-to create a ACI eManifest lead sheet The requirements to obtain a 'Proof of Report' and 'Proof of Release' stamp Two BIG misconceptions about ACI eManifest.\n\nI am currently submitting ACE eManifest into the USA so I'm automatically setup for eManifest into Canada.- FALSE\n\nI have plenty of time to get setup still. - FALSE
X-ALT-DESC;FMTTYPE=text/html:With less than 30 days for the ACI eManifest monetary AMPS penalties to come into force\, many carriers not already signed up are finding that they have reached the end of the road. To help company drivers\, owner operators\, dispatchers and carriers interested in cross-border transport get on board this new regulation\, Pacific Customs Brokers is running an ACI eManifest Fast Track lunch-and-learn workshop. Buckle up for a quick\, two-hour\, hands-on workshop on ACI eManifest submission options\, requirements and paperwork. You will hit the road with a full understanding of: How-to fill out an ACI eManifest request form How-to create a ACI eManifest lead sheet The requirements to obtain a &#39\;Proof of Report&#39\; and &#39\;Proof of Release&#39\; stamp Two BIG misconceptions about ACI eManifest.<br />\nI am currently submitting ACE eManifest into the USA so I&#39\;m automatically setup for eManifest into Canada.- FALSE<br />\nI have plenty of time to get setup still. - FALSE
LOCATION:Pacific Customs Brokers\, 17637 1st Avenue\, Surrey\, BC
UID:e.749.3731
SEQUENCE:3
DTSTAMP:20260423T232419Z
URL:https://business.businessinsurrey.com/events/details/workshop-aci-emanifest-drive-through-12-10-2015-3731
END:VEVENT

END:VCALENDAR
