BEGIN:VCALENDAR
VERSION:2.0
PRODID:-//ChamberMaster//Event Calendar 2.0//EN
METHOD:PUBLISH
X-PUBLISHED-TTL:P3D
REFRESH-INTERVAL:P3D
CALSCALE:GREGORIAN
BEGIN:VEVENT
DTSTART:20160218T020000Z
DTEND:20160218T040000Z
X-MICROSOFT-CDO-ALLDAYEVENT:FALSE
SUMMARY:What Love Can Teach Us in Business
DESCRIPTION:Join us to celebrate Valentine's month of love while learning tips on relationship building in business\, and meet other entrepreneurs who are looking for lasting connections. Be ready for an interesting business matchmaking experience. Also\, enjoy a glass of wine and chocolate on the house! Guest speakers:\n\n\n	Anthony Taylor from SME STRATEGY\n	Paola Murillo from Mirrai International and Latincouver
X-ALT-DESC;FMTTYPE=text/html:<p style="box-sizing: border-box\; margin: 0px 0px 10px\; padding: 0px\; border: 0px\; font-stretch: inherit\; font-size: 14px\; line-height: 20.006px\; font-family: 'open sans'\; vertical-align: baseline\; word-wrap: break-word\;">Join us to celebrate Valentine&#39\;s month of love while learning tips on relationship&nbsp\;building in business\, and meet other entrepreneurs who are looking for lasting&nbsp\;connections. Be ready for an interesting business matchmaking experience. Also\, enjoy a glass of wine and chocolate on the house! Guest speakers:</p>\n\n<ul style="box-sizing: border-box\; margin: 0px\; padding-right: 0px\; padding-left: 0px\; border: 0px\; font-stretch: inherit\; font-size: 14px\; line-height: 20.006px\; font-family: 'open sans'\; vertical-align: baseline\;">\n	<li style="box-sizing: border-box\; margin: 0px\; padding: 0px\; border: 0px\; font-style: inherit\; font-variant: inherit\; font-weight: inherit\; font-stretch: inherit\; font-size: inherit\; line-height: 20px\; font-family: inherit\; vertical-align: baseline\;">Anthony Taylor from SME STRATEGY</li>\n	<li style="box-sizing: border-box\; margin: 0px\; padding: 0px\; border: 0px\; font-style: inherit\; font-variant: inherit\; font-weight: inherit\; font-stretch: inherit\; font-size: inherit\; line-height: 20px\; font-family: inherit\; vertical-align: baseline\;">Paola Murillo from Mirrai International and Latincouver</li>\n</ul>\n\n<div style="box-sizing: border-box\; margin: 0px\; padding: 0px\; border: 0px\; font-style: inherit\; font-variant: inherit\; font-weight: inherit\; font-stretch: inherit\; font-size: inherit\; line-height: 20px\; font-family: inherit\; vertical-align: baseline\;"><br />\n&nbsp\;</div>\n
LOCATION:Spacekraft #201-4501 Kingsway Burnaby
UID:e.749.4821
SEQUENCE:3
DTSTAMP:20260424T024311Z
URL:https://business.businessinsurrey.com/events/details/what-love-can-teach-us-in-business-02-17-2016-4821
END:VEVENT

END:VCALENDAR
