BEGIN:VCALENDAR
VERSION:2.0
PRODID:-//ChamberMaster//Event Calendar 2.0//EN
METHOD:PUBLISH
X-PUBLISHED-TTL:P3D
REFRESH-INTERVAL:P3D
CALSCALE:GREGORIAN
BEGIN:VEVENT
DTSTART:20160511T010000Z
DTEND:20160511T020000Z
X-MICROSOFT-CDO-ALLDAYEVENT:FALSE
SUMMARY:Walk With Your Doc
DESCRIPTION:Join family doctors from Surrey and North Delta as we walk-the-talk and celebrate Move for Health Day by walking in Bear Creek Park. Sign up for this free\, family-friendly walk at walkwithyourdoc.ca and receive a pedometer for registering. Plus\, by joining the walk you can enter to win prizes to encourage healthy living\, including a FitBit. Join the conversation online with the hashtag #walkwithyourdoc\, and you'll increase your chances to win! We look forward to having you join us on May 10th as we take steps towards better health.
X-ALT-DESC;FMTTYPE=text/html:Join family doctors from Surrey and North Delta as we walk-the-talk and celebrate Move for Health Day by walking in Bear Creek Park. Sign up for this free\, family-friendly walk at walkwithyourdoc.ca and receive a pedometer for registering. Plus\, by joining the walk you can enter to win prizes to encourage healthy living\, including a FitBit. Join the conversation online with the hashtag #walkwithyourdoc\, and you&#39\;ll increase your chances to win! We look forward to having you join us on May 10th as we take steps towards better health.
LOCATION:Bear Creek Park\, 13700 88th Avenue\, Surrey BC
UID:e.749.4918
SEQUENCE:3
DTSTAMP:20260424T070315Z
URL:https://business.businessinsurrey.com/events/details/walk-with-your-doc-05-10-2016-4918
END:VEVENT

END:VCALENDAR
