BEGIN:VCALENDAR
VERSION:2.0
PRODID:-//ChamberMaster//Event Calendar 2.0//EN
METHOD:PUBLISH
X-PUBLISHED-TTL:P3D
REFRESH-INTERVAL:P3D
CALSCALE:GREGORIAN
BEGIN:VEVENT
DTSTART:20150325T181500Z
DTEND:20150325T203000Z
X-MICROSOFT-CDO-ALLDAYEVENT:FALSE
SUMMARY:Valley Women's Networking Luncheon
DESCRIPTION:Want to boost your business? Come learn new ideas\, network with other business entrepreneurs\, and promote your business at our luncheon.
X-ALT-DESC;FMTTYPE=text/html:Want to boost your business? Come learn new ideas\, network with other business entrepreneurs\, and promote your business at our luncheon.
LOCATION:Eagle Quest Golf Club\, 7778\, 152nd street\, Surrey
UID:e.749.3345
SEQUENCE:3
DTSTAMP:20260423T090817Z
URL:https://business.businessinsurrey.com/events/details/valley-women-s-networking-luncheon-03-25-2015-3345
END:VEVENT

END:VCALENDAR
