BEGIN:VCALENDAR
VERSION:2.0
PRODID:-//ChamberMaster//Event Calendar 2.0//EN
METHOD:PUBLISH
X-PUBLISHED-TTL:P3D
REFRESH-INTERVAL:P3D
CALSCALE:GREGORIAN
BEGIN:VEVENT
DTSTART:20160204T173000Z
DTEND:20160204T194500Z
X-MICROSOFT-CDO-ALLDAYEVENT:FALSE
SUMMARY:U.S. Importing for Beginners Webinar Series
DESCRIPTION:These 60-minute webinars will provide an efficient and comprehensive introduction to the importing process into the United States. We will cover a brief overview of how to accurately complete documentation\, the parties involved in the supply chain\, basic compliance considerations prior to importing\, common entry types\, free trade agreement eligibility\, possible risks of non-compliance such as penalties and more.\n\n\n\nTopics Include\n\n\n	\n		\n			\n			Part 1\n\n			\n				Parties involved\n				Considerations prior to importing\n				Tariff classification and its impact\n				Free trade agreements\n				The customs release process\n				U.S. Customs bonds\n				Entry types\n				Documentation requirements\n				Consequences of non-compliance\n			\n			\n			\n			Part 2\n\n			\n				Review/expand on Part 1\n				Non-resident importing\n				Methods of appraisement\n				NAFTA\n				ACE eManifest\n				Common invoice errors\n				Duty assessment and rulings\n				Importer security filing\n				AMPS\n			\n			\n		\n	\n\n\nWho Should Attend\n\nLogistics staff of:\n\n\n	\n		\n			\n			\n				Companies considering importing\n				Companies recently started importing\n			\n			\n			\n			\n				Companies importing with new staff\n				Anyone involved in the import process
X-ALT-DESC;FMTTYPE=text/html:<p style="text-align:justify">These 60-minute webinars will provide an efficient and comprehensive introduction to the importing process into the United States. We will cover a brief overview of how to accurately complete documentation\, the parties involved in the supply chain\, basic compliance considerations prior to importing\, common entry types\, free trade agreement eligibility\, possible risks of non-compliance such as penalties and more.</p>\n\n<h3><br />\nTopics Include</h3>\n\n<table style="height:55px\; width:535px">\n	<tbody>\n		<tr>\n			<td>\n			<p><strong>Part 1</strong></p>\n\n			<ul>\n				<li>Parties involved</li>\n				<li>Considerations prior to importing</li>\n				<li>Tariff classification and its impact</li>\n				<li>Free trade agreements</li>\n				<li>The customs release process</li>\n				<li>U.S. Customs bonds</li>\n				<li>Entry types</li>\n				<li>Documentation requirements</li>\n				<li>Consequences of non-compliance</li>\n			</ul>\n			</td>\n			<td>\n			<p><strong>Part 2</strong></p>\n\n			<ul>\n				<li>Review/expand on Part 1</li>\n				<li>Non-resident importing</li>\n				<li>Methods of appraisement</li>\n				<li>NAFTA</li>\n				<li>ACE eManifest</li>\n				<li>Common invoice errors</li>\n				<li>Duty assessment and rulings</li>\n				<li>Importer security filing</li>\n				<li>AMPS</li>\n			</ul>\n			</td>\n		</tr>\n	</tbody>\n</table>\n\n<h3>Who Should Attend</h3>\n\n<p>Logistics staff of:</p>\n\n<table style="height:10px\; width:535px">\n	<tbody>\n		<tr>\n			<td>\n			<ul>\n				<li>Companies considering importing</li>\n				<li>Companies recently started importing</li>\n			</ul>\n			</td>\n			<td>\n			<ul>\n				<li>Companies importing with new staff</li>\n				<li>Anyone involved in the import process</li>\n			</ul>\n			</td>\n		</tr>\n	</tbody>\n</table>\n
LOCATION:Online from any computer or mobile device
UID:e.749.4783
SEQUENCE:3
DTSTAMP:20260424T023457Z
URL:https://business.businessinsurrey.com/events/details/u-s-importing-for-beginners-webinar-series-02-04-2016-4783
END:VEVENT

END:VCALENDAR
