BEGIN:VCALENDAR
VERSION:2.0
PRODID:-//ChamberMaster//Event Calendar 2.0//EN
METHOD:PUBLISH
X-PUBLISHED-TTL:P3D
REFRESH-INTERVAL:P3D
CALSCALE:GREGORIAN
BEGIN:VEVENT
DTSTART;VALUE=DATE:20101116
DTEND;VALUE=DATE:20101117
TRANSP:TRANSPARENT
X-MICROSOFT-CDO-ALLDAYEVENT:TRUE
SUMMARY:Turbo-Charging Results at Work- Strategies\, Models and Tools for Managers
DESCRIPTION:Vancouver ISPI ( International Society for Performance Improvement) is pleased to present Roger Chevalier - PhD\, CPT . "Managers need a variety of approaches\, the skills to implement them\, and the wisdom to determine the appropriate strategy for each situation. " Dr. Roger Chevalier gives us all of that and more.\n\nJoin us for a dynamic workshop with this world leader in situational leadership.\n\nRenowned Executive Coach Marshall Goldsmith says: Roger Chevalier provides sound advice that managers can actually practice! His tools are both applicable and useful. Instead of being lost in complex theories that sound good but don?t translate into daily behavior\, he focuses on sharing applications that managers can immediately put to work..
X-ALT-DESC;FMTTYPE=text/html:Vancouver ISPI ( International Society for Performance Improvement) is pleased to present Roger Chevalier - PhD\, CPT . &quot\;Managers need a variety of approaches\, the skills to implement them\, and the wisdom to determine the appropriate strategy for each situation. &quot\; Dr. Roger Chevalier gives us all of that and more.<br />\nJoin us for a dynamic workshop with this world leader in situational leadership.<br />\nRenowned Executive Coach Marshall Goldsmith says: Roger Chevalier provides sound advice that managers can actually practice! His tools are both applicable and useful. Instead of being lost in complex theories that sound good but don?t translate into daily behavior\, he focuses on sharing applications that managers can immediately put to work..<br />\n
LOCATION:Plaza 500 Hotel - 500 West 12th St. ( @ Cambie) Vancouver
UID:e.749.1706
SEQUENCE:3
DTSTAMP:20260422T122332Z
URL:https://business.businessinsurrey.com/events/details/turbo-charging-results-at-work-strategies-models-and-tools-for-managers-11-16-2010-1706
END:VEVENT

END:VCALENDAR
