BEGIN:VCALENDAR
VERSION:2.0
PRODID:-//ChamberMaster//Event Calendar 2.0//EN
METHOD:PUBLISH
X-PUBLISHED-TTL:P3D
REFRESH-INTERVAL:P3D
CALSCALE:GREGORIAN
BEGIN:VEVENT
DTSTART:20110226T180000Z
DTEND:20110226T200000Z
X-MICROSOFT-CDO-ALLDAYEVENT:FALSE
SUMMARY:Trade Show - March 26\, 2011
DESCRIPTION:"Create an Extraordinary Life through The Power of Knowledge"\n\n\n\nThe Trade show will take on four components:\n\n\n\nFinancial Health\n\nPhysical Health\n\nMental Health\n\nNutritional Health\n\n\n\nDynamic Connections is Proud to Present an Interactive Event focused on your Health and Wellness\n\n\n\nJoin Dr. Holly explore the "Myths and Contradictions" within the scope of "Nutrition and your Body"\n\n\n\n"Dance Zumba"\n\n"The Hot New Latin American Dance Exercise Craze"\n\nCome and join us learn the new steps...."bring your dancing shoes"\n\n\n\n"The Whole Food Project"\n\nTake the Sustainable Challenge\n\nYou will never look at daily use products the same way!
X-ALT-DESC;FMTTYPE=text/html:"Create an Extraordinary Life through The Power of Knowledge"\n<br>\n<br>The Trade show will take on four components:\n<br>\n<br>Financial Health\n<br>Physical Health\n<br>Mental Health\n<br>Nutritional Health\n<br>\n<br>Dynamic Connections is Proud to Present an Interactive Event focused on your Health and Wellness\n<br>\n<br>Join Dr. Holly explore the "Myths and Contradictions" within the scope of "Nutrition and your Body"\n<br>\n<br>"Dance Zumba"\n<br>"The Hot New Latin American Dance Exercise Craze"\n<br>Come and join us learn the new steps...."bring your dancing shoes"\n<br>\n<br>"The Whole Food Project"\n<br>Take the Sustainable Challenge\n<br>You will never look at daily use products the same way!
LOCATION:Mavericks\, 5640 - 188th Street\, Surrey
UID:e.749.1811
SEQUENCE:3
DTSTAMP:20260422T094228Z
URL:https://business.businessinsurrey.com/events/details/trade-show-march-26-2011-02-26-2011-1811
END:VEVENT

END:VCALENDAR
