BEGIN:VCALENDAR
VERSION:2.0
PRODID:-//ChamberMaster//Event Calendar 2.0//EN
METHOD:PUBLISH
X-PUBLISHED-TTL:P3D
REFRESH-INTERVAL:P3D
CALSCALE:GREGORIAN
BEGIN:VEVENT
DTSTART:20150410T180000Z
DTEND:20150411T000000Z
X-MICROSOFT-CDO-ALLDAYEVENT:FALSE
SUMMARY:TIRED OF WORKING ALONE? TRY COWORKING FOR FREE!
DESCRIPTION:Beta Collective is once again inviting entrepreneurs to get out of their home or coffeeshop office\, and come work for free out of our shared workspace alongside other cool business owners instead. Bring your laptop\, and we'll supply you with free wi-fi\, parking\, coffee/tea\, snacks\, and most importantly -- an inspiring change of scenery. Spend the day with us\, and you'll soon wonder why you've been working alone all this time! RSVP: http://www.meetup.com/SurreyBusinessMVPs/events/221289623/
X-ALT-DESC;FMTTYPE=text/html:Beta Collective is once again inviting entrepreneurs to get out of their home or coffeeshop office\, and come work for free out of our shared workspace alongside other cool business owners instead. Bring your laptop\, and we&#39\;ll supply you with free wi-fi\, parking\, coffee/tea\, snacks\, and most importantly -- an inspiring change of scenery. Spend the day with us\, and you&#39\;ll soon wonder why you&#39\;ve been working alone all this time! RSVP: http://www.meetup.com/SurreyBusinessMVPs/events/221289623/
LOCATION:Beta Collective 13637 100th Ave. Surrey\, BC
UID:e.749.3551
SEQUENCE:3
DTSTAMP:20260423T104945Z
URL:https://business.businessinsurrey.com/events/details/tired-of-working-alone-try-coworking-for-free-04-10-2015-3551
END:VEVENT

END:VCALENDAR
