BEGIN:VCALENDAR
VERSION:2.0
PRODID:-//ChamberMaster//Event Calendar 2.0//EN
METHOD:PUBLISH
X-PUBLISHED-TTL:P3D
REFRESH-INTERVAL:P3D
CALSCALE:GREGORIAN
BEGIN:VEVENT
DTSTART:20160309T020000Z
DTEND:20160309T043000Z
X-MICROSOFT-CDO-ALLDAYEVENT:FALSE
SUMMARY:The Fraser Valley Estate Planning Council Dinner Meeting
DESCRIPTION:Doug Puffer\, Director of Planned Giving at Simon Fraser University\, will speak about "The Anatomy of a Philanthropic Gift"
X-ALT-DESC;FMTTYPE=text/html:Doug Puffer\, Director of Planned Giving at Simon Fraser University\, will speak about &quot\;The Anatomy of a Philanthropic Gift&quot\;
LOCATION:Eaglequest Golf Centre (Coyote Creek) 7778 - 152nd Street in Surrey
UID:e.749.4861
SEQUENCE:3
DTSTAMP:20260424T035823Z
URL:https://business.businessinsurrey.com/events/details/the-fraser-valley-estate-planning-council-dinner-meeting-03-08-2016-4861
END:VEVENT

END:VCALENDAR
