BEGIN:VCALENDAR
VERSION:2.0
PRODID:-//ChamberMaster//Event Calendar 2.0//EN
METHOD:PUBLISH
X-PUBLISHED-TTL:P3D
REFRESH-INTERVAL:P3D
CALSCALE:GREGORIAN
BEGIN:VEVENT
DTSTART:20160331T003000Z
DTEND:20160331T033000Z
X-MICROSOFT-CDO-ALLDAYEVENT:FALSE
SUMMARY:TECH OPEN HOUSE
DESCRIPTION:BC Tech Jobs and Spacekraft are hosting a Tech Open House on March 30th at the Spacekraft headquarters! The Tech Open House is being held by BC Tech Jobs in collaboration with Spacekraft\, the BCTIA\, the Tech Talent Meetup\, and the Burnaby Tech Meetup. \n\nThis is a great opportunity for tech professionals and job seekers to network with some of Vancouver's most sought-after companies\, who are looking for rock stars in Development\, QA\, Data\, UX\, Product\, Project Management and other technical areas. Candidates can meet company representatives face-to-face\, discuss current opportunities\, drop off a resume\, and leave a positive impression to continue the conversation later!
X-ALT-DESC;FMTTYPE=text/html:<p style="margin: 0px 0px 18px\; padding: 0px\; animation-duration: 0.1s\; animation-name: fontfix\; animation-iteration-count: 1\; animation-timing-function: linear\; animation-delay: 0.1s\; color: rgba(0\, 0\, 0\, 0.670588)\; font-family: Whitney\, helvetica\, arial\, sans-serif\; font-size: 16px\; line-height: 22.4px\;">BC Tech Jobs&nbsp\;and&nbsp\;Spacekraft&nbsp\;are hosting a Tech Open House on March 30th at the Spacekraft headquarters!&nbsp\;The Tech Open House is being held by&nbsp\;<a href="http://bctechjobs.ca/" style="display: inline\; cursor: pointer\; color: rgb(2\, 91\, 139)\; text-decoration: none\; animation-duration: 0.1s\; animation-name: fontfix\; animation-iteration-count: 1\; animation-timing-function: linear\; animation-delay: 0.1s\;">BC Tech Jobs</a>&nbsp\;in collaboration with&nbsp\;<a href="http://spacekraft.co/" style="display: inline\; cursor: pointer\; color: rgb(2\, 91\, 139)\; text-decoration: none\; animation-duration: 0.1s\; animation-name: fontfix\; animation-iteration-count: 1\; animation-timing-function: linear\; animation-delay: 0.1s\;">Spacekraft</a>\, the&nbsp\;<a href="http://www.bctia.org/" style="display: inline\; cursor: pointer\; color: rgb(2\, 91\, 139)\; text-decoration: none\; animation-duration: 0.1s\; animation-name: fontfix\; animation-iteration-count: 1\; animation-timing-function: linear\; animation-delay: 0.1s\;">BCTIA</a>\, the&nbsp\;<a href="http://www.meetup.com/Tech-talent-meetup" style="display: inline\; cursor: pointer\; color: rgb(2\, 91\, 139)\; text-decoration: none\; animation-duration: 0.1s\; animation-name: fontfix\; animation-iteration-count: 1\; animation-timing-function: linear\; animation-delay: 0.1s\;">Tech Talent Meetup</a>\, and the&nbsp\;<a href="http://www.meetup.com/Burnaby-Technology-Meetup" style="display: inline\; cursor: pointer\; color: rgb(2\, 91\, 139)\; text-decoration: none\; animation-duration: 0.1s\; animation-name: fontfix\; animation-iteration-count: 1\; animation-timing-function: linear\; animation-delay: 0.1s\;">Burnaby Tech Meetup</a>.&nbsp\;</p>\n\n<p style="margin: 0px 0px 18px\; padding: 0px\; animation-duration: 0.1s\; animation-name: fontfix\; animation-iteration-count: 1\; animation-timing-function: linear\; animation-delay: 0.1s\; color: rgba(0\, 0\, 0\, 0.670588)\; font-family: Whitney\, helvetica\, arial\, sans-serif\; font-size: 16px\; line-height: 22.4px\;">This is a great opportunity for tech professionals and job seekers to network with some of Vancouver&rsquo\;s most sought-after companies\, who are looking for rock stars in Development\, QA\, Data\, UX\, Product\, Project Management and other technical areas. Candidates can meet company representatives face-to-face\, discuss current opportunities\, drop off a resume\, and leave a positive impression to continue the conversation later!</p>\n
LOCATION:Spacekraft - #201-4501 Kingsway\, Burnaby\, BC
UID:e.749.4885
SEQUENCE:3
DTSTAMP:20260424T035344Z
URL:https://business.businessinsurrey.com/events/details/tech-open-house-03-30-2016-4885
END:VEVENT

END:VCALENDAR
