BEGIN:VCALENDAR
VERSION:2.0
PRODID:-//ChamberMaster//Event Calendar 2.0//EN
METHOD:PUBLISH
X-PUBLISHED-TTL:P3D
REFRESH-INTERVAL:P3D
CALSCALE:GREGORIAN
BEGIN:VEVENT
DTSTART:20180505T190000Z
DTEND:20180506T020000Z
X-MICROSOFT-CDO-ALLDAYEVENT:FALSE
SUMMARY:Surrey Youth Showcase: 5-on-5 Basketball Tournament
DESCRIPTION:Compete in this free 5-on-5 youth basketball tournament for juniors (ages 13-15) and seniors (ages 15-18)\, with divisions for girls and boys. Free to participate and watch! Lots of prizes are up for grabs worth more than $2000: MVPs\, best sportsmanship\, 1st place team\, and runner up for each division. Registration required by Sunday\, April 29 at https://bit.ly/2pxoZgZ Full event details at www.surrey.ca/sys
X-ALT-DESC;FMTTYPE=text/html:Compete in this free 5-on-5 youth basketball tournament for juniors (ages 13-15) and seniors (ages 15-18)\, with divisions for girls and boys. Free to participate and watch! Lots of prizes are up for grabs worth more than $2000: MVPs\, best sportsmanship\, 1st place team\, and runner up for each division. Registration required by Sunday\, April 29 at https://bit.ly/2pxoZgZ Full event details at www.surrey.ca/sys
LOCATION:Guildford Recreation Centre 15105 105 Ave Surrey\, B.C
UID:e.749.8232
SEQUENCE:3
DTSTAMP:20260422T223402Z
URL:https://business.businessinsurrey.com/events/details/surrey-youth-showcase-5-on-5-basketball-tournament-05-05-2018-8232
END:VEVENT

END:VCALENDAR
