BEGIN:VCALENDAR
VERSION:2.0
PRODID:-//ChamberMaster//Event Calendar 2.0//EN
METHOD:PUBLISH
X-PUBLISHED-TTL:P3D
REFRESH-INTERVAL:P3D
CALSCALE:GREGORIAN
BEGIN:VEVENT
DTSTART:20150423T213000Z
DTEND:20150423T233000Z
X-MICROSOFT-CDO-ALLDAYEVENT:FALSE
SUMMARY:Surrey Town Hall Meeting - BC Liquor Law Changes
DESCRIPTION:SURREY 2015 TOWN HALL\n\nBC LIQUOR LAW CHANGES AND THE IMPACT ON BC RESTAURANTS\n\n\n\nGuest Speaker: Bert Hick\, liquor consultant to the industry\n\n\n\nJoin the BCRFA and Rising Tide Consultants for this informative community town hall industry meeting to discuss the new changes in liquor policy\, minimum wage\, organic waste bans and other industry updates.  A great workshop for restaurant/pub owners and beverage managers.\n\n\n\nAll attendees must register at https://bcrfa.silkstart.com/events/surrey-town-hall-2015-1
X-ALT-DESC;FMTTYPE=text/html:<strong>SURREY 2015 TOWN HALL<br />\nBC LIQUOR LAW CHANGES AND THE IMPACT ON BC RESTAURANTS</strong><br />\n<br />\n<strong>Guest Speaker: Bert Hick\, liquor consultant to the industry</strong><br />\n<br />\nJoin the BCRFA and Rising Tide Consultants for this informative community town hall industry meeting to discuss the new changes in liquor policy\, minimum wage\, organic waste bans and other industry updates.&nbsp\; A great workshop for restaurant/pub owners and beverage managers.<br />\n<br />\nAll attendees must register at <a href="https://bcrfa.silkstart.com/events/surrey-town-hall-2015-1">https://bcrfa.silkstart.com/events/surrey-town-hall-2015-1</a><br />\n&nbsp\;
LOCATION:Eaglequest Golf (Coyote Creek) in West Room
UID:e.749.3575
SEQUENCE:3
DTSTAMP:20260423T104928Z
URL:https://business.businessinsurrey.com/events/details/surrey-town-hall-meeting-bc-liquor-law-changes-04-23-2015-3575
END:VEVENT

END:VCALENDAR
