BEGIN:VCALENDAR
VERSION:2.0
PRODID:-//ChamberMaster//Event Calendar 2.0//EN
METHOD:PUBLISH
X-PUBLISHED-TTL:P3D
REFRESH-INTERVAL:P3D
CALSCALE:GREGORIAN
BEGIN:VEVENT
DTSTART:20101014T143000Z
DTEND:20101014T210000Z
X-MICROSOFT-CDO-ALLDAYEVENT:FALSE
SUMMARY:Surrey Regional Economic Summit 2010
DESCRIPTION:The past few years have seen major changes in the world's economies\, with countries such as China and India now challenging the economic dominance of the United States. As a small\, open economy\, British Columbia needs to better understand these fundamental changes to decide how best to build our economy going forward.\n\n	At the 2010 Surrey Regional Economic Summit\, some of the world's foremost international business experts will share their unique and timely perspectives on how changes in international economies\, and the rise of China and India\, are impacting Canada and British Columbia. Speakers include Steve Forbes of Forbes Magazine\, author and professor Dr. Kishore Mahbubani of Singapore\, The Economist's Asia Economics Editor Pam Woodall\, and BBC World News Singapore anchor Rico Hizon. Joining them will be local and national experts who'll add their perspective on what these changes mean for our economy.\n\n	Organized and promoted by the City of Surrey and the Business Council of British Columbia\, the 2010 Surrey Summit will be one of the most important economic\n\n	events held in BC this year\, and a not-to-be-missed opportunity to network with 500 of Metro Vancouver's most influential business and community leaders. \n\n	 \n\n	In addition to expert panelists\, featured speakers include:\n\n	Steve Forbes\, Editor-in-Chief\,Forbes Magazine\, New York\n\n	Pam Woodall\, Asia Economics Editor\,The Economist\, London\n\n	Dr. Kishore Mahbubani\, Author and Professor\, National University of Singapore and Past President of UN Security Council\n\n	Rico Hizon\, Asia Business Anchor\, BBC World News\, Signapore
X-ALT-DESC;FMTTYPE=text/html:<p align="left">\n	<font face="HelveticaNeue-Light" size="2"><font face="HelveticaNeue-Light" size="2"><font face="HelveticaNeue-Light" size="2"><font face="HelveticaNeue-Light" size="2"><font face="HelveticaNeue-Light" size="2">The past few years have seen major changes in the </font></font></font><font face="HelveticaNeue-Light" size="2"><font face="HelveticaNeue-Light" size="2"><font face="HelveticaNeue-Light" size="2">world&rsquo\;s economies\, with countries such as China </font></font></font><font face="HelveticaNeue-Light" size="2"><font face="HelveticaNeue-Light" size="2"><font face="HelveticaNeue-Light" size="2">and India now challenging the economic dominance </font></font></font><font face="HelveticaNeue-Light" size="2"><font face="HelveticaNeue-Light" size="2"><font face="HelveticaNeue-Light" size="2">of the United States. As a small\, open economy\, </font></font></font><font face="HelveticaNeue-Light" size="2"><font face="HelveticaNeue-Light" size="2"><font face="HelveticaNeue-Light" size="2">British Columbia needs to better understand these </font></font></font><font face="HelveticaNeue-Light" size="2"><font face="HelveticaNeue-Light" size="2"><font face="HelveticaNeue-Light" size="2">fundamental changes to decide how best to build </font></font></font><font face="HelveticaNeue-Light" size="2"><font face="HelveticaNeue-Light" size="2"><font face="HelveticaNeue-Light" size="2">our economy going forward.</font></font></font></font></font></p>\n<p align="left">\n	<font face="HelveticaNeue-Light" size="2"><font face="HelveticaNeue-Light" size="2"><font face="HelveticaNeue-Light" size="2"><font face="HelveticaNeue-Light" size="2"><font face="HelveticaNeue-Light" size="2">At the 2010 Surrey Regional Economic Summit\, </font></font></font><font face="HelveticaNeue-Light" size="2"><font face="HelveticaNeue-Light" size="2"><font face="HelveticaNeue-Light" size="2">some of the world&rsquo\;s foremost international business </font></font></font><font face="HelveticaNeue-Light" size="2"><font face="HelveticaNeue-Light" size="2"><font face="HelveticaNeue-Light" size="2">experts will share their unique and timely perspectives </font></font></font><font face="HelveticaNeue-Light" size="2"><font face="HelveticaNeue-Light" size="2"><font face="HelveticaNeue-Light" size="2">on how changes in international economies\, and the </font></font></font><font face="HelveticaNeue-Light" size="2"><font face="HelveticaNeue-Light" size="2"><font face="HelveticaNeue-Light" size="2">rise of China and India\, are impacting Canada and </font></font></font><font face="HelveticaNeue-Light" size="2"><font face="HelveticaNeue-Light" size="2"><font face="HelveticaNeue-Light" size="2">British Columbia. Speakers include Steve Forbes of </font></font></font><font face="HelveticaNeue-Light" size="2"><font face="HelveticaNeue-Light" size="2"><font face="HelveticaNeue-Light" size="2">Forbes Magazine\, author and professor Dr. Kishore </font></font></font><font face="HelveticaNeue-Light" size="2"><font face="HelveticaNeue-Light" size="2"><font face="HelveticaNeue-Light" size="2">Mahbubani of Singapore\, The Economist&rsquo\;s Asia </font></font></font><font face="HelveticaNeue-Light" size="2"><font face="HelveticaNeue-Light" size="2"><font face="HelveticaNeue-Light" size="2">Economics Editor Pam Woodall\, and BBC World News </font></font></font><font face="HelveticaNeue-Light" size="2"><font face="HelveticaNeue-Light" size="2"><font face="HelveticaNeue-Light" size="2">Singapore anchor Rico Hizon. Joining them will be local </font></font></font><font face="HelveticaNeue-Light" size="2"><font face="HelveticaNeue-Light" size="2"><font face="HelveticaNeue-Light" size="2">and national experts who&rsquo\;ll add their perspective on </font></font></font><font face="HelveticaNeue-Light" size="2"><font face="HelveticaNeue-Light" size="2"><font face="HelveticaNeue-Light" size="2">what these changes mean for our economy.</font></font></font></font></font></p>\n<p align="left">\n	<font face="HelveticaNeue-Light" size="2"><font face="HelveticaNeue-Light" size="2"><font face="HelveticaNeue-Light" size="2"><font face="HelveticaNeue-Light" size="2"><font face="HelveticaNeue-Light" size="2">Organized and promoted by the City of Surrey and the </font></font></font><font face="HelveticaNeue-Light" size="2"><font face="HelveticaNeue-Light" size="2"><font face="HelveticaNeue-Light" size="2">Business Council of British Columbia\, the 2010 Surrey </font></font></font><font face="HelveticaNeue-Light" size="2"><font face="HelveticaNeue-Light" size="2"><font face="HelveticaNeue-Light" size="2">Summit will be one of the most important economic</font></font></font></font></font></p>\n<p align="left">\n	<font face="HelveticaNeue-Light" size="2"><font face="HelveticaNeue-Light" size="2"><font face="HelveticaNeue-Light" size="2"><font face="HelveticaNeue-Light" size="2"><font face="HelveticaNeue-Light" size="2">events held in BC this year\, and a not-to-be-missed </font></font></font><font face="HelveticaNeue-Light" size="2"><font face="HelveticaNeue-Light" size="2"><font face="HelveticaNeue-Light" size="2">opportunity to network with 500 of Metro Vancouver&rsquo\;s </font></font></font><font face="HelveticaNeue-Light" size="2"><font face="HelveticaNeue-Light" size="2"><font face="HelveticaNeue-Light" size="2">most influential business and community leaders. </font></font></font></font></font><br />\n	&nbsp\;</p>\n<p align="left">\n	<font face="HelveticaNeue-Light" size="2"><font face="HelveticaNeue-Light" size="2"><font face="HelveticaNeue-Light" size="2"><font face="HelveticaNeue-Light" size="2"><font face="HelveticaNeue-Light" size="2"><font face="HelveticaNeue-Light" size="2"><font face="HelveticaNeue-Light" size="2"><font face="HelveticaNeue-Light" size="2">In addition to expert panelists\, </font></font></font><font face="HelveticaNeue-Light" size="2"><font face="HelveticaNeue-Light" size="2"><font face="HelveticaNeue-Light" size="2">featured speakers include:</font></font></font></font></font></font></font></font></p>\n<p align="left">\n	<font face="HelveticaNeue-Light" size="2"><font face="HelveticaNeue-Light" size="2"><font face="HelveticaNeue-Light" size="2"><font face="HelveticaNeue-Light" size="2"><font face="HelveticaNeue-Light" size="2"><b><font face="HelveticaNeue-Bold" size="2"><font face="HelveticaNeue-Bold" size="2"><font face="HelveticaNeue-Bold" size="2">Steve Forbes</font></font></font></b><font face="HelveticaNeue-Light" size="2"><font face="HelveticaNeue-Light" size="2"><font face="HelveticaNeue-Light" size="2">\, Editor-in-Chief\,</font></font></font><font face="HelveticaNeue-Light" size="2"><font face="HelveticaNeue-Light" size="2"><font face="HelveticaNeue-Light" size="2">Forbes Magazine\, New York</font></font></font></font></font></font></font></font></p>\n<p align="left">\n	<font face="HelveticaNeue-Light" size="2"><font face="HelveticaNeue-Light" size="2"><font face="HelveticaNeue-Light" size="2"><font face="HelveticaNeue-Light" size="2"><font face="HelveticaNeue-Light" size="2"><b><font face="HelveticaNeue-Bold" size="2"><font face="HelveticaNeue-Bold" size="2"><font face="HelveticaNeue-Bold" size="2">Pam Woodall</font></font></font></b><font face="HelveticaNeue-Light" size="2"><font face="HelveticaNeue-Light" size="2"><font face="HelveticaNeue-Light" size="2">\, Asia Economics Editor\,</font></font></font><font face="HelveticaNeue-Light" size="2"><font face="HelveticaNeue-Light" size="2"><font face="HelveticaNeue-Light" size="2">The Economist\, London</font></font></font></font></font></font></font></font></p>\n<p align="left">\n	<font face="HelveticaNeue-Light" size="2"><font face="HelveticaNeue-Light" size="2"><font face="HelveticaNeue-Light" size="2"><font face="HelveticaNeue-Light" size="2"><font face="HelveticaNeue-Light" size="2"><b><font face="HelveticaNeue-Bold" size="2"><font face="HelveticaNeue-Bold" size="2"><font face="HelveticaNeue-Bold" size="2">Dr. Kishore Mahbubani</font></font></font></b><font face="HelveticaNeue-Light" size="2"><font face="HelveticaNeue-Light" size="2"><font face="HelveticaNeue-Light" size="2">\, Author and </font></font></font><font face="HelveticaNeue-Light" size="2"><font face="HelveticaNeue-Light" size="2"><font face="HelveticaNeue-Light" size="2">Professor\, National University of Singapore </font></font></font><font face="HelveticaNeue-Light" size="2"><font face="HelveticaNeue-Light" size="2"><font face="HelveticaNeue-Light" size="2">and Past President of UN Security Council</font></font></font></font></font></font></font></font></p>\n<p align="left">\n	<font face="HelveticaNeue-Light" size="2"><font face="HelveticaNeue-Light" size="2"><font face="HelveticaNeue-Light" size="2"><font face="HelveticaNeue-Light" size="2"><font face="HelveticaNeue-Light" size="2"><b><font face="HelveticaNeue-Bold" size="2"><font face="HelveticaNeue-Bold" size="2"><font face="HelveticaNeue-Bold" size="2">Rico Hizon</font></font></font></b><font face="HelveticaNeue-Light" size="2"><font face="HelveticaNeue-Light" size="2"><font face="HelveticaNeue-Light" size="2">\, Asia Business Anchor\, </font></font></font><font face="HelveticaNeue-Light" size="2"><font face="HelveticaNeue-Light" size="2"><font face="HelveticaNeue-Light" size="2">BBC World News\, Signapore</font></font></font></font></font></font></font></font></p>\n
LOCATION:Sheraton Vancouver Guildford Hotel 15269 104 Avenue\, Surrey
UID:e.749.1682
SEQUENCE:3
DTSTAMP:20260422T151341Z
URL:https://business.businessinsurrey.com/events/details/surrey-regional-economic-summit-2010-10-14-2010-1682
END:VEVENT

END:VCALENDAR
