BEGIN:VCALENDAR
VERSION:2.0
PRODID:-//ChamberMaster//Event Calendar 2.0//EN
METHOD:PUBLISH
X-PUBLISHED-TTL:P3D
REFRESH-INTERVAL:P3D
CALSCALE:GREGORIAN
BEGIN:VEVENT
DTSTART:20151128T030000Z
DTEND:20151128T053000Z
X-MICROSOFT-CDO-ALLDAYEVENT:FALSE
SUMMARY:Surrey Eagles vs West Kelowna
DESCRIPTION:Kick off your weekend by cheering on your Surrey Eagles as they take on the West Kelowna Warriors.\n\n\n\nCome take part in the excitement and watch the highest level of hockey south of the Fraser
X-ALT-DESC;FMTTYPE=text/html:Kick off your weekend by cheering on your Surrey Eagles as they take on the West Kelowna Warriors.<br />\n<br />\nCome take part in the excitement and watch the highest level of hockey south of the Fraser
LOCATION:South Surrey Arena 2199-148th Street
UID:e.749.3716
SEQUENCE:3
DTSTAMP:20260423T214546Z
URL:https://business.businessinsurrey.com/events/details/surrey-eagles-vs-west-kelowna-11-27-2015-3716
END:VEVENT

END:VCALENDAR
