BEGIN:VCALENDAR
VERSION:2.0
PRODID:-//ChamberMaster//Event Calendar 2.0//EN
METHOD:PUBLISH
X-PUBLISHED-TTL:P3D
REFRESH-INTERVAL:P3D
CALSCALE:GREGORIAN
BEGIN:VEVENT
DTSTART:20151207T000000Z
DTEND:20151207T023000Z
X-MICROSOFT-CDO-ALLDAYEVENT:FALSE
SUMMARY:Surrey Eagles vs Nanaimo Clippers
DESCRIPTION:Come cheer on your Surrey Eagles as they take on the Nanaimo Clippers.\n\n\n\nSunday games feature a FREE post game skate\, player autographs\, face painting and kids zone.\n\n\n\nSkate available for rent at the arena
X-ALT-DESC;FMTTYPE=text/html:Come cheer on your Surrey Eagles as they take on the Nanaimo Clippers.<br />\n<br />\nSunday games feature a FREE post game skate\, player autographs\, face painting and kids zone.<br />\n<br />\nSkate available for rent at the arena
LOCATION:South Surrey Arena 2199-148th Street
UID:e.749.3717
SEQUENCE:3
DTSTAMP:20260423T232507Z
URL:https://business.businessinsurrey.com/events/details/surrey-eagles-vs-nanaimo-clippers-12-06-2015-3717
END:VEVENT

END:VCALENDAR
