BEGIN:VCALENDAR
VERSION:2.0
PRODID:-//ChamberMaster//Event Calendar 2.0//EN
METHOD:PUBLISH
X-PUBLISHED-TTL:P3D
REFRESH-INTERVAL:P3D
CALSCALE:GREGORIAN
BEGIN:VEVENT
DTSTART:20151214T000000Z
DTEND:20151214T023000Z
X-MICROSOFT-CDO-ALLDAYEVENT:FALSE
SUMMARY:Surrey Eagles vs Langley Rivermen
DESCRIPTION:Star Wars Night!\n\n\n\nGet ready for the release of Star Wars: The Force Awakens with your Surrey Eagles.\n\n\n\nGame will feature authentic Star Wars characters from the 501st Legion taking pictures and accepting donations to Sources Food Bank.\n\n\n\nSunday games feature FREE post game skate with your Surrey Eagles\, player autographs\, face painting and kids zone.\n\n\n\nUse the Force and come out to the South Surrey Arena!!
X-ALT-DESC;FMTTYPE=text/html:Star Wars Night!<br />\n<br />\nGet ready for the release of Star Wars: The Force Awakens with your Surrey Eagles.<br />\n<br />\nGame will feature authentic Star Wars characters from the 501st Legion taking pictures and accepting donations to Sources Food Bank.<br />\n<br />\nSunday games feature FREE post game skate with your Surrey Eagles\, player autographs\, face painting and kids zone.<br />\n<br />\nUse the Force and come out to the South Surrey Arena!!
LOCATION:South Surrey Arena 2199-148th Street
UID:e.749.3718
SEQUENCE:3
DTSTAMP:20260423T232427Z
URL:https://business.businessinsurrey.com/events/details/surrey-eagles-vs-langley-rivermen-12-13-2015-3718
END:VEVENT

END:VCALENDAR
