BEGIN:VCALENDAR
VERSION:2.0
PRODID:-//ChamberMaster//Event Calendar 2.0//EN
METHOD:PUBLISH
X-PUBLISHED-TTL:P3D
REFRESH-INTERVAL:P3D
CALSCALE:GREGORIAN
BEGIN:VEVENT
DTSTART:20151212T000000Z
DTEND:20151212T023000Z
X-MICROSOFT-CDO-ALLDAYEVENT:FALSE
SUMMARY:Surrey Eagles vs Coquitlam Express
DESCRIPTION:Annual Teddy Bear Toss!!!\n\n\n\nCome cheer on your Surrey Eagles in our annual Teddy Bear Toss Game.\n\n\n\nBring your own teddy bear or buy one at the game. The Peace Arch Hospital Auxilary Society will be fundraising through the sale of teddy bears.\n\n\n\nTeddy bears thrown on the ice will be donated to the Surrey Christmas Bureau.\n\n\n\nSee you at the Nest
X-ALT-DESC;FMTTYPE=text/html:Annual Teddy Bear Toss!!!<br />\n<br />\nCome cheer on your Surrey Eagles in our annual Teddy Bear Toss Game.<br />\n<br />\nBring your own teddy bear or buy one at the game. The Peace Arch Hospital Auxilary Society will be fundraising through the sale of teddy bears.<br />\n<br />\nTeddy bears thrown on the ice will be donated to the Surrey Christmas Bureau.<br />\n<br />\nSee you at the Nest
LOCATION:South Surrey Arena
UID:e.749.3719
SEQUENCE:3
DTSTAMP:20260423T232427Z
URL:https://business.businessinsurrey.com/events/details/surrey-eagles-vs-coquitlam-express-12-11-2015-3719
END:VEVENT

END:VCALENDAR
