BEGIN:VCALENDAR
VERSION:2.0
PRODID:-//ChamberMaster//Event Calendar 2.0//EN
METHOD:PUBLISH
X-PUBLISHED-TTL:P3D
REFRESH-INTERVAL:P3D
CALSCALE:GREGORIAN
BEGIN:VEVENT
DTSTART:20150627T180000Z
DTEND:20150627T230000Z
X-MICROSOFT-CDO-ALLDAYEVENT:FALSE
SUMMARY:Surrey Doors Open
DESCRIPTION:Surrey Doors Open - Free Event June 27 from 11am to 4pm Discover the story behind every door! Explore 39 sites in City Centre\, Bear Creek\, Newton and Cloverdale offering a behind-the-scenes look into Surrey's rich culture\, history\, art and architecture. Enjoy many activities including: festivals\, entertainment\, children's activities\, guided tours and more! Free hop-on\, hop-off transportation makes exploring a variety of sites easy and fun. Event guides available online or at City of Surrey Recreation Centres and Libraries in June. Info: http://www.surrey.ca/doorsopen
X-ALT-DESC;FMTTYPE=text/html:Surrey Doors Open - Free Event June 27 from 11am to 4pm Discover the story behind every door! Explore 39 sites in City Centre\, Bear Creek\, Newton and Cloverdale offering a behind-the-scenes look into Surrey&#39\;s rich culture\, history\, art and architecture. Enjoy many activities including: festivals\, entertainment\, children&#39\;s activities\, guided tours and more! Free hop-on\, hop-off transportation makes exploring a variety of sites easy and fun. Event guides available online or at City of Surrey Recreation Centres and Libraries in June. Info: http://www.surrey.ca/doorsopen
LOCATION:Surrey
UID:e.749.3584
SEQUENCE:3
DTSTAMP:20260423T135547Z
URL:https://business.businessinsurrey.com/events/details/surrey-doors-open-06-27-2015-3584
END:VEVENT

END:VCALENDAR
