BEGIN:VCALENDAR
VERSION:2.0
PRODID:-//ChamberMaster//Event Calendar 2.0//EN
METHOD:PUBLISH
X-PUBLISHED-TTL:P3D
REFRESH-INTERVAL:P3D
CALSCALE:GREGORIAN
BEGIN:VEVENT
DTSTART:20160817T200000Z
DTEND:20160817T213000Z
X-MICROSOFT-CDO-ALLDAYEVENT:FALSE
SUMMARY:Stream of Dreams with the Burns Bog Conservation Society
DESCRIPTION:Join us in the beautiful Delta Nature Reserve to learn about watershed and salmon habitat! Participants get to paint wooden fish to decorate the fence along Lower Cougar Creek. Your painted fish will help remind recreational users of the importance to protect Lower Cougar Creek - important salmon habitat. Don't forget to come see your fish in April\, when you can spot lots of tiny little chum fry swimming down Lower Cougar Creek to the ocean.
X-ALT-DESC;FMTTYPE=text/html:Join us in the beautiful Delta Nature Reserve to learn about watershed and salmon habitat! Participants get to paint wooden fish to decorate the fence along Lower Cougar Creek. Your painted fish will help remind recreational users of the importance to protect Lower Cougar Creek - important salmon habitat. Don&#39\;t forget to come see your fish in April\, when you can spot lots of tiny little chum fry swimming down Lower Cougar Creek to the ocean.
LOCATION:10388 Nordel Court (Planet Ice Delta) V4G 1J7
UID:e.749.5107
SEQUENCE:3
DTSTAMP:20260424T053037Z
URL:https://business.businessinsurrey.com/events/details/stream-of-dreams-with-the-burns-bog-conservation-society-08-17-2016-5107
END:VEVENT

END:VCALENDAR
