BEGIN:VCALENDAR
VERSION:2.0
PRODID:-//ChamberMaster//Event Calendar 2.0//EN
METHOD:PUBLISH
X-PUBLISHED-TTL:P3D
REFRESH-INTERVAL:P3D
CALSCALE:GREGORIAN
BEGIN:VEVENT
DTSTART:20151217T230000Z
DTEND:20151218T010000Z
X-MICROSOFT-CDO-ALLDAYEVENT:FALSE
SUMMARY:Strategic Business Planning for Early Stage Technology Companies
DESCRIPTION:Join the management team at SME Strategy for a presentation on how to effectively use business planning and strategic planning in your startup to better allocate resources\, have less waste and more easily meet milestones and deadlines.\n\nDecember 17th in Downtown Vancouver\n\nLearn how to incorporate strategic planning to effectively manage the growth of your technology company.\n\nThere will be a 60 minute presentation followed by a 30 Minute roundtable Q&A with other tech CEO's where you can share best practices\, and ask your own planning questions.\n\nAfter the event there will be a reception with host bar at a local venue to be determined.\n\nPre registration is required as we will not be accepting registrations at the door.\n\nOnly 15 seats will be available.\n\nIf you have questions about the session\, or have a specific learning objective email us at: Info@smestrategy.net\n\nThere will also be an additional event December 16th at the Canadian Consulate in Seattle.
X-ALT-DESC;FMTTYPE=text/html:<p style="box-sizing: border-box\; margin: 0px 0px 24px\; font-family: 'Avenir Next W01'\, sans-serif\; color: rgba(0\, 0\, 0\, 0.870588)\; line-height: 24px\; font-size: 16px\; letter-spacing: 0.16px\;">Join the management team at SME Strategy for a presentation on how to effectively use business planning and strategic planning in your startup to better allocate resources\, have less waste and more easily meet milestones and deadlines.</p>\n\n<p style="box-sizing: border-box\; margin: 0px 0px 24px\; font-family: 'Avenir Next W01'\, sans-serif\; color: rgba(0\, 0\, 0\, 0.870588)\; line-height: 24px\; font-size: 16px\; letter-spacing: 0.16px\;">December 17th in Downtown Vancouver</p>\n\n<p style="box-sizing: border-box\; margin: 0px 0px 24px\; font-family: 'Avenir Next W01'\, sans-serif\; color: rgba(0\, 0\, 0\, 0.870588)\; line-height: 24px\; font-size: 16px\; letter-spacing: 0.16px\;">Learn how to incorporate strategic planning to effectively manage the growth of your technology company.</p>\n\n<p style="box-sizing: border-box\; margin: 0px 0px 24px\; font-family: 'Avenir Next W01'\, sans-serif\; color: rgba(0\, 0\, 0\, 0.870588)\; line-height: 24px\; font-size: 16px\; letter-spacing: 0.16px\;">There will be a 60 minute presentation followed by a 30 Minute roundtable Q&amp\;A with other tech CEO&rsquo\;s where you can share best practices\, and ask your own planning questions.</p>\n\n<p style="box-sizing: border-box\; margin: 0px 0px 24px\; font-family: 'Avenir Next W01'\, sans-serif\; color: rgba(0\, 0\, 0\, 0.870588)\; line-height: 24px\; font-size: 16px\; letter-spacing: 0.16px\;">After the event there will be a reception with host bar at a local venue to be determined.</p>\n\n<p style="box-sizing: border-box\; margin: 0px 0px 24px\; font-family: 'Avenir Next W01'\, sans-serif\; color: rgba(0\, 0\, 0\, 0.870588)\; line-height: 24px\; font-size: 16px\; letter-spacing: 0.16px\;">Pre registration is required as we will not be accepting registrations at the door.</p>\n\n<p style="box-sizing: border-box\; margin: 0px 0px 24px\; font-family: 'Avenir Next W01'\, sans-serif\; color: rgba(0\, 0\, 0\, 0.870588)\; line-height: 24px\; font-size: 16px\; letter-spacing: 0.16px\;">Only 15 seats will be available.</p>\n\n<p style="box-sizing: border-box\; margin: 0px 0px 24px\; font-family: 'Avenir Next W01'\, sans-serif\; color: rgba(0\, 0\, 0\, 0.870588)\; line-height: 24px\; font-size: 16px\; letter-spacing: 0.16px\;">If you have questions about the session\, or have a specific learning objective email us at: Info@smestrategy.net</p>\n\n<p style="box-sizing: border-box\; margin: 0px 0px 24px\; font-family: 'Avenir Next W01'\, sans-serif\; color: rgba(0\, 0\, 0\, 0.870588)\; line-height: 24px\; font-size: 16px\; letter-spacing: 0.16px\;">There will also be an additional event December 16th at the Canadian Consulate in Seattle.</p>\n
LOCATION:#1250 - 789 West Pender Vancouver\, BC V6C 2X1\, Vancouver\, BC\, Canada
UID:e.749.3727
SEQUENCE:3
DTSTAMP:20260423T233108Z
URL:https://business.businessinsurrey.com/events/details/strategic-business-planning-for-early-stage-technology-companies-12-17-2015-3727
END:VEVENT

END:VCALENDAR
