BEGIN:VCALENDAR
VERSION:2.0
PRODID:-//ChamberMaster//Event Calendar 2.0//EN
METHOD:PUBLISH
X-PUBLISHED-TTL:P3D
REFRESH-INTERVAL:P3D
CALSCALE:GREGORIAN
BEGIN:VEVENT
DTSTART:20150823T153000Z
DTEND:20150823T200000Z
X-MICROSOFT-CDO-ALLDAYEVENT:FALSE
SUMMARY:St. John Ambulance - Save that Child Course
DESCRIPTION:St. John Ambulance New Course Save That Child is an interactive first aid course designed for parents\, grandparents\, and others who care for infants. Course stresses accident prevention while also teaching essential first aid skills\, enabling you to effectively recognize\, prevent\, and respond to emergencies. (Only $49/person or $80 for two people) Contact St. John Ambulance at 604-953-1603 or Mike.Masellis@bc.sja.ca
X-ALT-DESC;FMTTYPE=text/html:St. John Ambulance New Course Save That Child is an interactive first aid course designed for parents\, grandparents\, and others who care for infants. Course stresses accident prevention while also teaching essential first aid skills\, enabling you to effectively recognize\, prevent\, and respond to emergencies. (Only $49/person or $80 for two people) Contact St. John Ambulance at 604-953-1603 or Mike.Masellis@bc.sja.ca
LOCATION:8911 152nds St.\, Surrey\, BC
UID:e.749.3626
SEQUENCE:3
DTSTAMP:20260423T170716Z
URL:https://business.businessinsurrey.com/events/details/st-john-ambulance-save-that-child-course-08-23-2015-3626
END:VEVENT

END:VCALENDAR
