BEGIN:VCALENDAR
VERSION:2.0
PRODID:-//ChamberMaster//Event Calendar 2.0//EN
METHOD:PUBLISH
X-PUBLISHED-TTL:P3D
REFRESH-INTERVAL:P3D
CALSCALE:GREGORIAN
BEGIN:VEVENT
DTSTART:20161022T190000Z
DTEND:20161022T230000Z
X-MICROSOFT-CDO-ALLDAYEVENT:FALSE
SUMMARY:Spooktacular Newton
DESCRIPTION:FREE PUMPKINS for the first 1000 people! Arrive in costume\, trick-or-treat along 137th Street and drop into the petting zoo. Or play it safe and take part in fun crafts and games! Get spooked at the spook theatre and leave with a memory at the photobooth. And be on the lookout for surprise dance performances! After all the fun activities\, grab a bite from one of the food trucks or local restaurants. Brought to you by Newton BIA & Envision Financial!
X-ALT-DESC;FMTTYPE=text/html:FREE PUMPKINS for the first 1000 people! Arrive in costume\, trick-or-treat along 137th Street and drop into the petting zoo. Or play it safe and take part in fun crafts and games! Get spooked at the spook theatre and leave with a memory at the photobooth. And be on the lookout for surprise dance performances! After all the fun activities\, grab a bite from one of the food trucks or local restaurants. Brought to you by Newton BIA &amp\; Envision Financial!
LOCATION:7327 137th Stree\, Surrey\, BC V3W1A4
UID:e.749.5138
SEQUENCE:3
DTSTAMP:20260424T024056Z
URL:https://business.businessinsurrey.com/events/details/spooktacular-newton-10-22-2016-5138
END:VEVENT

END:VCALENDAR
