BEGIN:VCALENDAR
VERSION:2.0
PRODID:-//ChamberMaster//Event Calendar 2.0//EN
METHOD:PUBLISH
X-PUBLISHED-TTL:P3D
REFRESH-INTERVAL:P3D
CALSCALE:GREGORIAN
BEGIN:VEVENT
DTSTART:20151216T020000Z
DTEND:20151216T043000Z
X-MICROSOFT-CDO-ALLDAYEVENT:FALSE
SUMMARY:SME Strategy Winter Mingler
DESCRIPTION:Join us on December 15th for the SME Strategy winter minger\, one of the quarterly mingler events put on by SME Strategy.\n\nCome meet some new people\, connect with old friends\, and celebrate your successes from 2015.\n\nExpect a night of great conversation and making great connections.\n\nTickets include a drink and appetizers.
X-ALT-DESC;FMTTYPE=text/html:<p style="box-sizing: border-box\; margin: 0px 0px 24px\; font-family: 'Avenir Next W01'\, sans-serif\; color: rgba(0\, 0\, 0\, 0.870588)\; line-height: 24px\; font-size: 16px\; letter-spacing: 0.16px\;">Join us on December 15th for the SME Strategy winter minger\, one of the quarterly mingler events put on by SME Strategy.</p>\n\n<p style="box-sizing: border-box\; margin: 0px 0px 24px\; font-family: 'Avenir Next W01'\, sans-serif\; color: rgba(0\, 0\, 0\, 0.870588)\; line-height: 24px\; font-size: 16px\; letter-spacing: 0.16px\;">Come meet some new people\, connect with old friends\, and celebrate your successes from 2015.</p>\n\n<p style="box-sizing: border-box\; margin: 0px 0px 24px\; font-family: 'Avenir Next W01'\, sans-serif\; color: rgba(0\, 0\, 0\, 0.870588)\; line-height: 24px\; font-size: 16px\; letter-spacing: 0.16px\;">Expect a night of great conversation and making great connections.</p>\n\n<p style="box-sizing: border-box\; margin: 0px 0px 24px\; font-family: 'Avenir Next W01'\, sans-serif\; color: rgba(0\, 0\, 0\, 0.870588)\; line-height: 24px\; font-size: 16px\; letter-spacing: 0.16px\;">Tickets include a drink and appetizers.</p>\n
LOCATION:The Pint Public House\, 455 Abbott St\, Vancouver\, BC V6B 1S4\, Vancouver\, BC\, Canada
UID:e.749.3722
SEQUENCE:3
DTSTAMP:20260423T232544Z
URL:https://business.businessinsurrey.com/events/details/sme-strategy-winter-mingler-12-15-2015-3722
END:VEVENT

END:VCALENDAR
