BEGIN:VCALENDAR
VERSION:2.0
PRODID:-//ChamberMaster//Event Calendar 2.0//EN
METHOD:PUBLISH
X-PUBLISHED-TTL:P3D
REFRESH-INTERVAL:P3D
CALSCALE:GREGORIAN
BEGIN:VEVENT
DTSTART:20160624T010000Z
DTEND:20160624T033000Z
X-MICROSOFT-CDO-ALLDAYEVENT:FALSE
SUMMARY:SME Strategy Summer Mingler 2016
DESCRIPTION:Join us on June 23rd\, one of the quarterly mingler events put on by SME Strategy. Come meet some new people\, connect with old friends\, and celebrate your successes from 2016. Expect a night of great conversation and making great connections. Tickets include one drink and appetizers.
X-ALT-DESC;FMTTYPE=text/html:Join us on June 23rd\, one of the quarterly mingler events put on by SME Strategy. Come meet some new people\, connect with old friends\, and celebrate your successes from 2016. Expect a night of great conversation and making great connections. Tickets include one drink and appetizers.
LOCATION:The Pint Public House\, 455 Abbott St\, Vancouver\, BC V6B 1S4\, Vancouver\, BC\, Canada
UID:e.749.4957
SEQUENCE:3
DTSTAMP:20260424T100701Z
URL:https://business.businessinsurrey.com/events/details/sme-strategy-summer-mingler-2016-06-23-2016-4957
END:VEVENT

END:VCALENDAR
