BEGIN:VCALENDAR
VERSION:2.0
PRODID:-//ChamberMaster//Event Calendar 2.0//EN
METHOD:PUBLISH
X-PUBLISHED-TTL:P3D
REFRESH-INTERVAL:P3D
CALSCALE:GREGORIAN
BEGIN:VEVENT
DTSTART:20150724T003000Z
DTEND:20150724T030000Z
X-MICROSOFT-CDO-ALLDAYEVENT:FALSE
SUMMARY:SME Strategy Summer Mingler
DESCRIPTION:Come out and celebrate the summer with some of Vancouver's nicest and most fun entrepreneurs.\n\nThere won't be any speakers\, but it will be a great an opportunity to make connections with some of Vancouver movers and shakers\, and learn what's been working for them in their business.\n\nGet out\, meet some new people\, have great conversations and have fun!\n\nTickets include one drink and appetizers.\n\nThere will also be food and drink specials all evening.\n\nThis event is part of the SME Strategy quarterly Mingler series.\n\nThis will also be the celebration party for Anthony's kickstarter project for his book: "What I wish I knew before starting my first business" See details here
X-ALT-DESC;FMTTYPE=text/html:<p style="box-sizing: border-box\; font-family: AvenirNextLTW01-Regular\, sans-serif\; color: rgb(34\, 34\, 34)\; line-height: 24px\; font-size: 15px\; border: none\; margin: 0px 0px 15px !important\; box-shadow: none !important\; background: none !important\;">Come out and celebrate the summer with some of Vancouver&#39\;s nicest and most fun entrepreneurs.</p>\n\n<p style="box-sizing: border-box\; font-family: AvenirNextLTW01-Regular\, sans-serif\; color: rgb(34\, 34\, 34)\; line-height: 24px\; font-size: 15px\; border: none\; margin: 0px 0px 15px !important\; box-shadow: none !important\; background: none !important\;">There won&#39\;t be any speakers\, but it will be a great an opportunity to make connections with some of Vancouver movers and shakers\, and learn what&#39\;s been working for them in their business.</p>\n\n<p style="box-sizing: border-box\; font-family: AvenirNextLTW01-Regular\, sans-serif\; color: rgb(34\, 34\, 34)\; line-height: 24px\; font-size: 15px\; border: none\; margin: 0px 0px 15px !important\; box-shadow: none !important\; background: none !important\;">Get out\, meet some new people\, have great conversations and have fun!</p>\n\n<p style="box-sizing: border-box\; font-family: AvenirNextLTW01-Regular\, sans-serif\; color: rgb(34\, 34\, 34)\; line-height: 24px\; font-size: 15px\; border: none\; margin: 0px 0px 15px !important\; box-shadow: none !important\; background: none !important\;">Tickets include one drink&nbsp\;and appetizers.</p>\n\n<p style="box-sizing: border-box\; font-family: AvenirNextLTW01-Regular\, sans-serif\; color: rgb(34\, 34\, 34)\; line-height: 24px\; font-size: 15px\; border: none\; margin: 0px 0px 15px !important\; box-shadow: none !important\; background: none !important\;">There will also be food and drink specials all evening.</p>\n\n<p style="box-sizing: border-box\; font-family: AvenirNextLTW01-Regular\, sans-serif\; color: rgb(34\, 34\, 34)\; line-height: 24px\; font-size: 15px\; border: none\; margin: 0px 0px 15px !important\; box-shadow: none !important\; background: none !important\;">This event is part of the SME Strategy quarterly Mingler series.</p>\n\n<p style="box-sizing: border-box\; font-family: AvenirNextLTW01-Regular\, sans-serif\; color: rgb(34\, 34\, 34)\; line-height: 24px\; font-size: 15px\; border: none\; margin: 0px 0px 15px !important\; box-shadow: none !important\; background: none !important\;">This will also be the celebration party for Anthony&#39\;s kickstarter project for his book: &quot\;What I wish I knew before starting my first business&quot\;&nbsp\;<a href="https://www.kickstarter.com/projects/295523987/what-i-wish-i-knew-before-starting-my-first-busine" style="box-sizing: border-box\; color: rgb(245\, 131\, 1) !important\; text-decoration: none !important\; transition: color 0.3s ease-in-out\; -webkit-transition: color 0.3s ease-in-out\; background-color: transparent\;" target="_blank">See details here</a></p>\n
LOCATION:The Pint (Backroom)\, 455 Abbott St\, Vancouver\, BC\, Canada
UID:e.749.3605
SEQUENCE:3
DTSTAMP:20260423T152857Z
URL:https://business.businessinsurrey.com/events/details/sme-strategy-summer-mingler-07-23-2015-3605
END:VEVENT

END:VCALENDAR
