BEGIN:VCALENDAR
VERSION:2.0
PRODID:-//ChamberMaster//Event Calendar 2.0//EN
METHOD:PUBLISH
X-PUBLISHED-TTL:P3D
REFRESH-INTERVAL:P3D
CALSCALE:GREGORIAN
BEGIN:VEVENT
DTSTART:20101202T013000Z
DTEND:20101202T053000Z
X-MICROSOFT-CDO-ALLDAYEVENT:FALSE
SUMMARY:Sheraton Hotel and Fresh Restaurant hosting Dare to Dine December 1
DESCRIPTION:On Wednesday December 1\, World Aids Day\, Fresh Restaurant is hosting a Dare to Dine in support of the Stephen Lewis foundation and Grandmothers to Grandmothers campaign. Sheraton Vancouver Guildford Hotel Takes on a Dare to Remember to Raise Funds for Grassroots Organizations Turning the Tide of AIDS in Africa A DARE TO REMEMBER - DARE TO DINE is a campaign of the Stephen Lewis Foundation engaging Canadians to raise funds for AIDS in Africa.
X-ALT-DESC;FMTTYPE=text/html:On Wednesday December 1\, World Aids Day\, Fresh Restaurant is hosting a Dare to Dine in support of the Stephen Lewis foundation and Grandmothers to Grandmothers campaign. Sheraton Vancouver Guildford Hotel Takes on a Dare to Remember to Raise Funds for Grassroots Organizations Turning the Tide of AIDS in Africa A DARE TO REMEMBER&nbsp\;- DARE TO DINE is a campaign of the Stephen Lewis Foundation engaging Canadians to raise funds for AIDS in Africa. 
LOCATION:Fresh Restaurant in the Sheraton Guildford Hotel.
UID:e.749.1718
SEQUENCE:3
DTSTAMP:20260422T104628Z
URL:https://business.businessinsurrey.com/events/details/sheraton-hotel-and-fresh-restaurant-hosting-dare-to-dine-december-1-12-01-2010-1718
END:VEVENT

END:VCALENDAR
