BEGIN:VCALENDAR
VERSION:2.0
PRODID:-//ChamberMaster//Event Calendar 2.0//EN
METHOD:PUBLISH
X-PUBLISHED-TTL:P3D
REFRESH-INTERVAL:P3D
CALSCALE:GREGORIAN
BEGIN:VEVENT
DTSTART:20150428T013000Z
DTEND:20150428T033000Z
X-MICROSOFT-CDO-ALLDAYEVENT:FALSE
SUMMARY:Sexuality Programs - April 27\, 2015
DESCRIPTION:Ages 11-15: Dates: April 13th\, 27th\, May 4th\, 11th\, 2015 Topics: Body Changes\,Hygiene\, Puberty Ages 16+: Dates: May 25th\, June 1\, 8th\, 15th\, 2015 Topics Safer Sex\, Abuse Prevention\, Exploitation prevention\,healthy relationships.
X-ALT-DESC;FMTTYPE=text/html:Ages 11-15: Dates: April 13th\, 27th\, May 4th\, 11th\, 2015 Topics: Body Changes\,Hygiene\, Puberty Ages 16+: Dates: May 25th\, June 1\, 8th\, 15th\, 2015 Topics Safer Sex\, Abuse Prevention\, Exploitation prevention\,healthy relationships.
LOCATION:13775 -70 th Ave\, Surrey Newton Senior Centre
UID:e.749.3304
SEQUENCE:3
DTSTAMP:20260423T104456Z
URL:https://business.businessinsurrey.com/events/details/sexuality-programs-april-27-2015-04-27-2015-3304
END:VEVENT

END:VCALENDAR
