BEGIN:VCALENDAR
VERSION:2.0
PRODID:-//ChamberMaster//Event Calendar 2.0//EN
METHOD:PUBLISH
X-PUBLISHED-TTL:P3D
REFRESH-INTERVAL:P3D
CALSCALE:GREGORIAN
BEGIN:VEVENT
DTSTART:20100910T010000Z
DTEND:20100910T030000Z
X-MICROSOFT-CDO-ALLDAYEVENT:FALSE
SUMMARY:September 9\, 2010 - B2B @ 5 Star Catering
DESCRIPTION:Business to Business Networking ReceptionHosted by 5 Star Catering at Sunrise Banquet & Conference Centre Join us at the Business to Business Netowrking Reception to celebrate the re-opening of 5 Star Catering at Sunrise Banquet & Conference Centre! Enjoy fine food and refreshments\, and learn what they have to offer in catering at your location\, or theirs. Delicious food\, fine company\, gifts and door prizes are all part of the program\, so come help us celebrate this Surrey success story!
X-ALT-DESC;FMTTYPE=text/html:<div><span style="font-size: smaller"><strong>Business to Business Networking Reception</strong></span></div><div><span style="font-size: larger"><strong>Hosted by 5 Star Catering at Sunrise Banquet &amp\;&nbsp\;Conference Centre</strong></span></div><div><span style="font-size: smaller">&nbsp\;</span></div><div><span style="font-size: smaller">Join us at the Business to Business Netowrking Reception to celebrate the re-opening of 5 Star Catering at Sunrise Banquet &amp\;&nbsp\;Conference Centre!</span></div><div><span style="font-size: smaller">&nbsp\;</span></div><div><span style="font-size: smaller">Enjoy fine food and refreshments\, and learn what they have to offer in catering at your location\, or theirs.</span></div><div><span style="font-size: smaller">&nbsp\;</span></div><div><span style="font-size: smaller">Delicious food\, fine company\, gifts and door prizes are all part of the program\, so come help us celebrate this Surrey success story!</span></div>
LOCATION:5 Star Catering at Sunrise Banquet & Conference Centre5640 188 Street\, Surrey (at #10 Highway)
UID:e.749.1643
SEQUENCE:3
DTSTAMP:20260422T120918Z
URL:https://business.businessinsurrey.com/events/details/september-9-2010-b2b-5-star-catering-09-09-2010-1643
END:VEVENT

END:VCALENDAR
