BEGIN:VCALENDAR
VERSION:2.0
PRODID:-//ChamberMaster//Event Calendar 2.0//EN
METHOD:PUBLISH
X-PUBLISHED-TTL:P3D
REFRESH-INTERVAL:P3D
CALSCALE:GREGORIAN
BEGIN:VEVENT
DTSTART:20160908T000000Z
DTEND:20160908T020000Z
X-MICROSOFT-CDO-ALLDAYEVENT:FALSE
SUMMARY:September 7\, 2016 - Summer Sizzle Networking Series at Famoso Guildford
DESCRIPTION:Don't let summer get in the way of your networking! The Summer Sizzle Networking Series is designed to keep you connected in a fun\, summer atmosphere. Sign up for one or come to all three!\n\n\n\nFamoso Guildford serves authentic Neapolitan Pizza \, artisan pastas\, and great appetizers in an upbeat\, casual atmosphere. With a full bar\, it is a great place to enjoy a local craft beer or sip on a glass of wine on the sun-filled patio. Lunch specials start at only $10.95 which makes it the ideal venue for a business meeting or a quick catch up with an old friend.\n\n\n\nSeries Dates:\n\nAugust 10 - Sheraton Vancouver Guildford Hotel Pool Deck\n\nAugust 25 - Sandman Suites Guildford on the Moxie's Rooftop Patio\n\nSeptember 7 - Famoso Guildford Patio
X-ALT-DESC;FMTTYPE=text/html:Don&rsquo\;t let summer get in the way of your networking! The Summer Sizzle Networking Series is designed to keep you connected in a fun\, summer atmosphere. Sign up for one or come to all three!<br />\n<br />\nFamoso Guildford serves authentic Neapolitan Pizza \, artisan pastas\, and great appetizers in an upbeat\, casual atmosphere. With a full bar\, it is a great place to enjoy a local craft beer or sip on a glass of wine on the sun-filled patio. Lunch specials start at only $10.95 which makes it the ideal venue for a business meeting or a quick catch up with an old friend.<br />\n<br />\n<strong>Series Dates:</strong><br />\nAugust 10 - Sheraton Vancouver Guildford Hotel Pool Deck<br />\nAugust 25 - Sandman Suites Guildford on the Moxie&#39\;s Rooftop Patio<br />\nSeptember 7 - Famoso Guildford Patio
LOCATION:Famoso Guildford 10355 152 Street\, Surrey
UID:e.749.4968
SEQUENCE:3
DTSTAMP:20260424T040010Z
URL:https://business.businessinsurrey.com/events/details/september-7-2016-summer-sizzle-networking-series-at-famoso-guildford-09-07-2016-4968
END:VEVENT

END:VCALENDAR
