BEGIN:VCALENDAR
VERSION:2.0
PRODID:-//ChamberMaster//Event Calendar 2.0//EN
METHOD:PUBLISH
X-PUBLISHED-TTL:P3D
REFRESH-INTERVAL:P3D
CALSCALE:GREGORIAN
BEGIN:VEVENT
DTSTART:20160928T144500Z
DTEND:20160928T170000Z
X-MICROSOFT-CDO-ALLDAYEVENT:FALSE
SUMMARY:September 28\, 2016 - Plugged In and Polite
DESCRIPTION:Modern communication is rife with rudeness: Tweeting from the table? Phone calls from the restroom? Please\, no! No one wants to be that person\, but sometimes it's hard to know what's acceptable and what's offensive. Learn how to use digital communications effectively without smashing personal boundaries\, destroying your image\, or causing a faux pas.\n\n \nPresented by Margaret Page of Beyond The Page Coaching & Training Ltd.
X-ALT-DESC;FMTTYPE=text/html:<div><span style="color:rgb(0\,0\,0)"><span style="font-family:arial\,helvetica\,sans-serif"><font size="2">Modern communication is rife with rudeness: Tweeting from the table? Phone calls from the restroom? Please\, no! No one wants to be that person\, but sometimes it&rsquo\;s hard to know what&rsquo\;s acceptable and what&rsquo\;s offensive. Learn how to use digital communications effectively without smashing personal boundaries\, destroying your image\, or causing a faux pas.</font></span></span><br />\n&nbsp\;</div>\n<span style="color:rgb(0\,0\,0)"><span style="font-family:arial\,helvetica\,sans-serif"><font size="2"><i><b>Presented by Margaret Page of Beyond The Page Coaching &amp\; Training Ltd.</b></i></font></span></span>
LOCATION:Surrey Board of Trade Office 101\, 14439 104th Ave\, Surrey
UID:e.749.5111
SEQUENCE:3
DTSTAMP:20260424T040110Z
URL:https://business.businessinsurrey.com/events/details/september-28-2016-plugged-in-and-polite-09-28-2016-5111
END:VEVENT

END:VCALENDAR
