BEGIN:VCALENDAR
VERSION:2.0
PRODID:-//ChamberMaster//Event Calendar 2.0//EN
METHOD:PUBLISH
X-PUBLISHED-TTL:P3D
REFRESH-INTERVAL:P3D
CALSCALE:GREGORIAN
BEGIN:VEVENT
DTSTART:20150924T170000Z
DTEND:20150924T230000Z
X-MICROSOFT-CDO-ALLDAYEVENT:FALSE
SUMMARY:September 24\, 2015 - PICS 8th Annual Mega Job Fair and BC Small Business Expo
DESCRIPTION:This year PICS Mega Job Fair and the networking event promises to be bigger and better with more than 8000 people and approximately 100 exhibitors participating in the signature event.  \n\nSponsored by Vancity\, PICS Mega Job Fair and BC Small Business Expo will be of great benefit to both job seekers and to businesses.  Job seekers will get to explore job opportunities and career choices with employers such as big box stores\, banks\, credit unions\, schools and colleges\; crown corporations\; and small businesses will find value in the excellent networking and marketing opportunities to showcase their products and services.
X-ALT-DESC;FMTTYPE=text/html:<p class="MsoNormal" style="text-align:justify"><span mso-bidi-font-family:="" style="font-size:11.0pt\;\nfont-family:">This year PICS Mega Job Fair and&nbsp\;the networking event promises to be bigger and better with more than 8000 people and approximately 100 exhibitors participating in the signature event.&nbsp\; </span></p>\n\n<p class="MsoNormal" style="text-align:justify"><span mso-bidi-font-family:="" style="font-size:11.0pt\;\nfont-family:">Sponsored by Vancity\, PICS Mega Job Fair and BC Small Business Expo will be of great benefit to both job seekers and to businesses.&nbsp\; Job seekers will get to explore job opportunities and career choices with employers such as big box stores\, banks\, credit unions\, schools and colleges\; crown corporations\; and small businesses will find value in the excellent networking and marketing opportunities to showcase their products and services.</span></p>\n\n<p class="MsoNormal" style="text-align:justify"><span mso-bidi-font-family:="" style="font-size:11.0pt\;\nfont-family:">&nbsp\;</span></p>\n
LOCATION:Aria Banquet Hall\, 12350\, Patullo Pl\, Surrey.
UID:e.749.3646
SEQUENCE:3
DTSTAMP:20260423T185132Z
URL:https://business.businessinsurrey.com/events/details/september-24-2015-pics-8th-annual-mega-job-fair-and-bc-small-business-expo-09-24-2015-3646
END:VEVENT

END:VCALENDAR
