BEGIN:VCALENDAR
VERSION:2.0
PRODID:-//ChamberMaster//Event Calendar 2.0//EN
METHOD:PUBLISH
X-PUBLISHED-TTL:P3D
REFRESH-INTERVAL:P3D
CALSCALE:GREGORIAN
BEGIN:VEVENT
DTSTART:20150925T003000Z
DTEND:20150925T030000Z
X-MICROSOFT-CDO-ALLDAYEVENT:FALSE
SUMMARY:September 24\, 2015 - Federal Election All Candidates Debate
DESCRIPTION:In preparation for the upcoming Federal Election\, the Surrey Board of Trade is inviting business leaders\, their staff\, and the community to meet the candidates.\n\n\n\nTopics:\n\n	Crime\n	Environment\n	Industry\, Infrastructure\n	International\n	Social Policy\n	Taxation\n	Transportation\n\nFederal Party Candidates\n\nConservative\n\nGreen\n\nLiberal\n\nNDP\n\n\n\n\n\nSurrey Board of Trade Hosts Federal Election All-Candidates Business Dialogue\,\n\nSeptember 24\n\n \n\nCandidates from five ridings will dialogue on their views on what's best for Surrey. \n\n \n\nThe Surrey Board of Trade\, in partnership with the Fraser Valley Real Estate Board\, is holding an Federal Election All Candidates Business Dialogue:\n\nDate:                        Thursday\, September 24\, 2015\n\n                  Time:                       5:30 p.m. Registration\, 6:00   8:00 p.m. Program\n\n                  Location:               Eaglequest Golf Course\, 7778 152 Street\, Surrey\n\n                  Cost:                         Free\, registration required at info@businessinsurrey.com\n\nHear candidates from the Conservative Party\, Green Party\, Liberal Party\, and NDP to answer questions from the business community. How will they address Surrey's concerns on crime\, transportation\, international trade\, social policy\, environment\, arts and health? What are their plans to support business   small and large? For specific industries such as manufacturer's? \n\nSurrey is a major consideration for the October 19th election as it is home to nearly 16\,000 businesses and has approximately 46% of Metro Vancouver's total vacant industrial land. Surrey's growing population is projected to be 551\,653 for 2016. \n\n"Surrey is a major strategic economic area that needs to be paid attention to by our federal government\," said Anita Huberman\, CEO Surrey Board of Trade.\n\nThe Surrey Board of Trade wants to ensure that our members have an opportunity to engage with the federal candidates\, consider their positions\, and make the best choice for their federal representative.\n\nThe Surrey Board of Trade\, in Surrey since 1918\, provides businesses and organizations with economic opportunity\, workplace development and education\, international trade\, government advocacy and business connections. The Surrey Board of Trade has 2\,100 business members\, representing 6\,000 business contacts and over 60\,000 employees. We support business\, attract business and improve economic efficiencies for business through government lobbying. The Surrey Board of Trade is the go-to place for business resources and information. We believe that transportation and education are the two economic foundations of building a city.\n\n \n\n---30---
X-ALT-DESC;FMTTYPE=text/html:In preparation for the upcoming Federal Election\, the Surrey Board of Trade is inviting business leaders\, their staff\, and the community to meet the candidates.<br />\n<br />\nTopics:\n<ol>\n	<li>Crime</li>\n	<li>Environment</li>\n	<li>Industry\, Infrastructure</li>\n	<li>International</li>\n	<li>Social Policy</li>\n	<li>Taxation</li>\n	<li>Transportation</li>\n</ol>\n<u>Federal Party Candidates</u><br />\nConservative<br />\nGreen<br />\nLiberal<br />\nNDP<br />\n<br />\n<style type="text/css"><!--\n /* Font Definitions */\n@font-face\n	{font-family:"&#65325\;&#65331\; &#26126\;&#26397\;"\;\n	mso-font-charset:78\;\n	mso-generic-font-family:auto\;\n	mso-font-pitch:variable\;\n	mso-font-signature:-536870145 1791491579 18 0 131231 0\;}\n@font-face\n	{font-family:"Cambria Math"\;\n	panose-1:2 4 5 3 5 4 6 3 2 4\;\n	mso-font-charset:0\;\n	mso-generic-font-family:auto\;\n	mso-font-pitch:variable\;\n	mso-font-signature:-536870145 1107305727 0 0 415 0\;}\n@font-face\n	{font-family:Calibri\;\n	panose-1:2 15 5 2 2 2 4 3 2 4\;\n	mso-font-charset:0\;\n	mso-generic-font-family:auto\;\n	mso-font-pitch:variable\;\n	mso-font-signature:-520092929 1073786111 9 0 415 0\;}\n /* Style Definitions */\np.MsoNormal\, li.MsoNormal\, div.MsoNormal\n	{mso-style-unhide:no\;\n	mso-style-qformat:yes\;\n	mso-style-parent:""\;\n	margin:0cm\;\n	margin-bottom:.0001pt\;\n	mso-pagination:widow-orphan\;\n	font-size:11.0pt\;\n	mso-bidi-font-size:12.0pt\;\n	font-family:Calibri\;\n	mso-fareast-font-family:"&#65325\;&#65331\; &#26126\;&#26397\;"\;\n	mso-fareast-theme-font:minor-fareast\;\n	mso-bidi-font-family:"Times New Roman"\;\n	mso-bidi-theme-font:minor-bidi\;\n	mso-ansi-language:EN-US\;\n	mso-fareast-language:JA\;}\n.MsoChpDefault\n	{mso-style-type:export-only\;\n	mso-default-props:yes\;\n	font-family:Cambria\;\n	mso-ascii-font-family:Cambria\;\n	mso-ascii-theme-font:minor-latin\;\n	mso-fareast-font-family:"&#65325\;&#65331\; &#26126\;&#26397\;"\;\n	mso-fareast-theme-font:minor-fareast\;\n	mso-hansi-font-family:Cambria\;\n	mso-hansi-theme-font:minor-latin\;\n	mso-bidi-font-family:"Times New Roman"\;\n	mso-bidi-theme-font:minor-bidi\;\n	mso-ansi-language:EN-US\;\n	mso-fareast-language:JA\;}\n@page WordSection1\n	{size:612.0pt 792.0pt\;\n	margin:72.0pt 90.0pt 72.0pt 90.0pt\;\n	mso-header-margin:36.0pt\;\n	mso-footer-margin:36.0pt\;\n	mso-paper-source:0\;}\ndiv.WordSection1\n	{page:WordSection1\;}\n-->\n</style>\n<p class="MsoNormal"><b style="mso-bidi-font-weight:normal"><span lang="EN-US">Surrey Board of Trade Hosts Federal Election All-Candidates Business Dialogue\,<br />\nSeptember 24</span></b></p>\n\n<p class="MsoNormal"><span lang="EN-US">&nbsp\;</span></p>\n\n<p class="MsoNormal"><span lang="EN-US">Candidates from five ridings will dialogue on their views on what&rsquo\;s best for Surrey. </span></p>\n\n<p class="MsoNormal"><span lang="EN-US">&nbsp\;</span></p>\n\n<p class="MsoNormal"><span lang="EN-US">The Surrey Board of Trade\, in partnership with the Fraser Valley Real Estate Board\, is holding an Federal Election All Candidates Business Dialogue:</span></p>\n\n<p class="MsoNormal"><span lang="EN-US"><b style="mso-bidi-font-weight:normal">Date</b>:<span style="mso-tab-count:2">&nbsp\;&nbsp\;&nbsp\;&nbsp\;&nbsp\;&nbsp\;&nbsp\;&nbsp\;&nbsp\;&nbsp\;&nbsp\;&nbsp\;&nbsp\;&nbsp\;&nbsp\;&nbsp\;&nbsp\;&nbsp\;&nbsp\;&nbsp\;&nbsp\;&nbsp\;&nbsp\; </span>Thursday\, September 24\, 2015</span></p>\n\n<p class="MsoNormal"><span lang="EN-US"><span style="mso-tab-count:1">&nbsp\;&nbsp\;&nbsp\;&nbsp\;&nbsp\;&nbsp\;&nbsp\;&nbsp\;&nbsp\;&nbsp\;&nbsp\;&nbsp\;&nbsp\;&nbsp\;&nbsp\;&nbsp\;&nbsp\; </span><b style="mso-bidi-font-weight:normal">Time</b>:<span style="mso-tab-count:2">&nbsp\;&nbsp\;&nbsp\;&nbsp\;&nbsp\;&nbsp\;&nbsp\;&nbsp\;&nbsp\;&nbsp\;&nbsp\;&nbsp\;&nbsp\;&nbsp\;&nbsp\;&nbsp\;&nbsp\;&nbsp\;&nbsp\;&nbsp\;&nbsp\;&nbsp\; </span>5:30 p.m. Registration\, 6:00 &ndash\; 8:00 p.m. Program</span></p>\n\n<p class="MsoNormal"><span lang="EN-US"><span style="mso-tab-count:1">&nbsp\;&nbsp\;&nbsp\;&nbsp\;&nbsp\;&nbsp\;&nbsp\;&nbsp\;&nbsp\;&nbsp\;&nbsp\;&nbsp\;&nbsp\;&nbsp\;&nbsp\;&nbsp\;&nbsp\; </span><b style="mso-bidi-font-weight:normal">Location</b>:<span style="mso-tab-count:\n1">&nbsp\;&nbsp\;&nbsp\;&nbsp\;&nbsp\;&nbsp\;&nbsp\;&nbsp\;&nbsp\;&nbsp\;&nbsp\;&nbsp\;&nbsp\;&nbsp\; </span>Eaglequest Golf Course\, 7778 152 Street\, Surrey</span></p>\n\n<p class="MsoNormal"><span lang="EN-US"><span style="mso-tab-count:1">&nbsp\;&nbsp\;&nbsp\;&nbsp\;&nbsp\;&nbsp\;&nbsp\;&nbsp\;&nbsp\;&nbsp\;&nbsp\;&nbsp\;&nbsp\;&nbsp\;&nbsp\;&nbsp\;&nbsp\; </span><b style="mso-bidi-font-weight:normal">Cost</b>:<span style="mso-tab-count:2">&nbsp\;&nbsp\;&nbsp\;&nbsp\;&nbsp\;&nbsp\;&nbsp\;&nbsp\;&nbsp\;&nbsp\;&nbsp\;&nbsp\;&nbsp\;&nbsp\;&nbsp\;&nbsp\;&nbsp\;&nbsp\;&nbsp\;&nbsp\;&nbsp\;&nbsp\;&nbsp\;&nbsp\; </span>Free\, registration required at info@businessinsurrey.com</span></p>\n\n<p class="MsoNormal"><span lang="EN-US">Hear candidates from the Conservative Party\, Green Party\, Liberal Party\, and NDP to answer questions from the business community. How will they address Surrey&rsquo\;s concerns on crime\, transportation\, international trade\, social policy\, environment\, arts and health? What are their plans to support business &ndash\; small and large? For specific industries such as manufacturer&rsquo\;s? </span></p>\n\n<p class="MsoNormal"><span lang="EN-US">Surrey is a major consideration for the October 19<sup>th</sup> election as it is home to nearly 16\,000 businesses and has approximately 46% of Metro Vancouver&rsquo\;s total vacant industrial land. Surrey&rsquo\;s growing population is projected to be 551\,653 for 2016. </span></p>\n\n<p class="MsoNormal"><span lang="EN-US">&ldquo\;Surrey is a major strategic economic area that needs to be paid attention to by our federal government\,&rdquo\; said Anita Huberman\, CEO Surrey Board of Trade.</span></p>\n\n<p class="MsoNormal"><span lang="EN-US">The Surrey Board of Trade wants to ensure that our members have an opportunity to engage with the federal candidates\, consider their positions\, and make the best choice for their federal representative.</span></p>\n\n<p class="MsoNormal"><i style="mso-bidi-font-style:normal"><span lang="EN-US">The Surrey Board of Trade\, in Surrey since 1918\, provides businesses and organizations with economic opportunity\, workplace development and education\, international trade\, government advocacy and business connections. The Surrey Board of Trade has 2\,100 business members\, representing 6\,000 business contacts and over 60\,000 employees. We support business\, attract business and improve economic efficiencies for business through government lobbying. The Surrey Board of Trade is the go-to place for business resources and information. We believe that transportation and education are the two economic foundations of building a city.</span></i></p>\n\n<p class="MsoNormal"><span lang="EN-US">&nbsp\;</span></p>\n\n<p class="MsoNormal"><span lang="EN-US">---30---</span></p>\n
LOCATION:Eaglequest Golf Course (7778 152 Street\, Surrey)
UID:e.749.3637
SEQUENCE:3
DTSTAMP:20260423T185708Z
URL:https://business.businessinsurrey.com/events/details/september-24-2015-federal-election-all-candidates-debate-09-24-2015-3637
END:VEVENT

END:VCALENDAR
