BEGIN:VCALENDAR
VERSION:2.0
PRODID:-//ChamberMaster//Event Calendar 2.0//EN
METHOD:PUBLISH
X-PUBLISHED-TTL:P3D
REFRESH-INTERVAL:P3D
CALSCALE:GREGORIAN
BEGIN:VEVENT
DTSTART:20150924T003000Z
DTEND:20150924T023000Z
X-MICROSOFT-CDO-ALLDAYEVENT:FALSE
SUMMARY:September 23\, 2015 - Business to Business Networking Reception at Envision Financial
DESCRIPTION:Attend the Surrey Board of Trade Business Networking Reception hosted by Envision Financial\, a division of First West Credit Union\, on Wednesday\, September 23\, 2015\, to celebrate their brand new concept branch and meet the amazing team!  Check out the open and interactive branch space\, try out the awesome technology advancements and make new business contacts.
X-ALT-DESC;FMTTYPE=text/html:<span style="font-family:arial\;"><span style="font-size:10.0pt\;">Attend the Surrey Board of Trade Business Networking Reception hosted by <strong>Envision Financial\, </strong><span style="background:white\;"><span style="color:#222222\;">a division of First West Credit Union</span></span>\, on <strong>Wednesday\, September 23\, 2015\, </strong>to celebrate their <span style="background:white\;"><span style="color:#222222\;">brand new concept branch and meet the amazing team!&nbsp\; Check out the open and interactive branch space\, try out the awesome technology advancements and make new business contacts.</span></span></span></span>
LOCATION:Brickyard Station - Cloverdale Branch #100 17433 56th Avenue Surrey\, BC V3S 2X6
UID:e.749.3611
SEQUENCE:3
DTSTAMP:20260423T185128Z
URL:https://business.businessinsurrey.com/events/details/september-23-2015-business-to-business-networking-reception-at-envision-financial-09-23-2015-3611
END:VEVENT

END:VCALENDAR
