BEGIN:VCALENDAR
VERSION:2.0
PRODID:-//ChamberMaster//Event Calendar 2.0//EN
METHOD:PUBLISH
X-PUBLISHED-TTL:P3D
REFRESH-INTERVAL:P3D
CALSCALE:GREGORIAN
BEGIN:VEVENT
DTSTART:20150923T010000Z
DTEND:20150923T033000Z
X-MICROSOFT-CDO-ALLDAYEVENT:FALSE
SUMMARY:September 22\, 2015 - Sarah McLachlan Reception
DESCRIPTION:SOLD OUT!\n\nTo be on the wait list\,  please call Deanna at 604.581.7130 or email info@businessinsurrey.com\n\n\n\nPlease join The Sarah McLachlan School of Music and The Surrey Board of Trade for a campaign announcement and reception to welcome the Sarah McLachlan School of Music to Surrey.\n\n\n\nSpecial Guest: Sarah McLachlan\n\n\n\nPlease RSVP by September 14th to Deanna Jacobs at info@businessinsurrey.com or 604.581.7130
X-ALT-DESC;FMTTYPE=text/html:<strong><u>SOLD OUT!</u></strong><br />\n<strong>To be on the wait list\,&nbsp\; please call Deanna at 604.581.7130 or email info@businessinsurrey.com</strong><br />\n<br />\nPlease join The Sarah McLachlan School of Music and The Surrey Board of Trade for a campaign announcement and reception to welcome the Sarah McLachlan School of Music to Surrey.<br />\n<br />\nSpecial Guest: Sarah McLachlan<br />\n<br />\nPlease RSVP by September 14th to Deanna Jacobs at info@businessinsurrey.com or 604.581.7130
LOCATION:Surrey Arts Centre 13750 - 88 Avenue Surrey\, BC
UID:e.749.3648
SEQUENCE:3
DTSTAMP:20260423T184650Z
URL:https://business.businessinsurrey.com/events/details/september-22-2015-sarah-mclachlan-reception-09-22-2015-3648
END:VEVENT

END:VCALENDAR
