BEGIN:VCALENDAR
VERSION:2.0
PRODID:-//ChamberMaster//Event Calendar 2.0//EN
METHOD:PUBLISH
X-PUBLISHED-TTL:P3D
REFRESH-INTERVAL:P3D
CALSCALE:GREGORIAN
BEGIN:VEVENT
DTSTART:20150922T143000Z
DTEND:20150922T170000Z
X-MICROSOFT-CDO-ALLDAYEVENT:FALSE
SUMMARY:September 22\, 2015 - Health Care and Business Dialogue - Seniors' Health
DESCRIPTION:You are invited!\n\nLeadership Surrey Dialogue Series\n\nHealth Care and Business Dialogues\n\n\n\nOriginally focused on long-term care facilities\, this dialogue will foster a conversation on what is the ideal situation for seniors wanting to age in place and how to support these decisions as seniors transition from active retirement to aging with assistance.
X-ALT-DESC;FMTTYPE=text/html:<span style="font-family:arial\;">You are invited!<br />\n<span style="font-size: 16px\;"><strong>Leadership Surrey Dialogue Series</strong></span><br />\n<span style="font-size: 14px\;"><em>Health Care and Business Dialogues</em></span><br />\n<br />\n<span style="font-size:12px\;">Originally focused on long-term care facilities\, this dialogue will foster a conversation on what is the ideal situation for seniors wanting to age in place and how to support these decisions as seniors transition from active retirement to aging with assistance.</span></span>
LOCATION:Guildford Golf Course 7929 152 Street Surrey\, BC
UID:e.749.3572
SEQUENCE:3
DTSTAMP:20260423T185243Z
URL:https://business.businessinsurrey.com/events/details/september-22-2015-health-care-and-business-dialogue-seniors-health-09-22-2015-3572
END:VEVENT

END:VCALENDAR
