BEGIN:VCALENDAR
VERSION:2.0
PRODID:-//ChamberMaster//Event Calendar 2.0//EN
METHOD:PUBLISH
X-PUBLISHED-TTL:P3D
REFRESH-INTERVAL:P3D
CALSCALE:GREGORIAN
BEGIN:VEVENT
DTSTART:20100923T010000Z
DTEND:20100923T043000Z
X-MICROSOFT-CDO-ALLDAYEVENT:FALSE
SUMMARY:September 22\, 2010 - Police Awards
DESCRIPTION:14th Annual Surrey Board of Trade \nPolice Officer of the Year \nAwards Dinner\nEnjoy: Keynote Speakers\, Five Course Dinner\, Awards Presentation\, Gifts\, Musical Entertainment Keynote Speaker:Bev Busson\, former Commissioner of the RCMPTopic: The RCMP's connection to the community\, the changing face of Surrey and the evolution of the Royal Canadian Mounted Police Bev Busson was the first female to hold this post of Commistioned of the Royal Canadian Mounted Police.  She was born in Halifax\, Nova Scotia and joined the RCMP in 1974.  In 2004\,she was made the Commander of the Order of Merit of the Police Forces and in 2006\, she was awarded the Order of British Columbia.  On June 17\, 2010\, she was awarded the Doctor of Laws honourary degree by Simon Fraser University. Supporting the RCMP Youth Academy and RCMP Spurs Youth Cadets Co-Presenting Sponsor: BCLCMedia Sponsors: The Now Newspaper and the Indo-Canadian Times International Inc.Venue Sponsor: The Sheraton Vancouver Guildford Hotel
X-ALT-DESC;FMTTYPE=text/html:<div><div align="center"><h3><strong>14th Annual Surrey Board of Trade <br />Police Officer of the Year <br />Awards Dinner</strong></h3></div><p><br />Enjoy: Keynote Speakers\, Five Course Dinner\, Awards Presentation\, Gifts\, Musical Entertainment&nbsp\;</p><div>Keynote Speaker:</div><h4><strong>Bev Busson\, former Commissioner of the RCMP</strong></h4><div><em><strong>Topic:&nbsp\;The RCMP&rsquo\;s connection to the community\, the changing face of Surrey and the evolution of the Royal Canadian Mounted Police</strong></em></div><div>&nbsp\;</div><div>Bev Busson was the first female to hold this post of Commistioned of the Royal&nbsp\;Canadian Mounted Police.&nbsp\; She was born in Halifax\, Nova Scotia and joined the RCMP in 1974.&nbsp\; In 2004\,she was made the Commander of the Order of Merit of the Police Forces and in 2006\, she was awarded the Order of British Columbia.&nbsp\; On June 17\, 2010\, she was awarded the Doctor of Laws honourary degree by Simon Fraser University.</div><div>&nbsp\;</div><div>Supporting the RCMP&nbsp\;Youth Academy and RCMP Spurs Youth Cadets</div><div>&nbsp\;</div><h5>Co-Presenting Sponsor:&nbsp\;BCLC</h5><h5>Media Sponsors:&nbsp\;The Now Newspaper and the Indo-Canadian Times International Inc.</h5><h5>Venue Sponsor:&nbsp\;The Sheraton Vancouver Guildford Hotel</h5></div>
LOCATION:Sheraton Vancouver Guildford Hotel15269 - 104th Ave\, Surrey
UID:e.749.1598
SEQUENCE:3
DTSTAMP:20260422T132019Z
URL:https://business.businessinsurrey.com/events/details/september-22-2010-police-awards-09-22-2010-1598
END:VEVENT

END:VCALENDAR
