BEGIN:VCALENDAR
VERSION:2.0
PRODID:-//ChamberMaster//Event Calendar 2.0//EN
METHOD:PUBLISH
X-PUBLISHED-TTL:P3D
REFRESH-INTERVAL:P3D
CALSCALE:GREGORIAN
BEGIN:VEVENT
DTSTART:20160922T000000Z
DTEND:20160922T020000Z
X-MICROSOFT-CDO-ALLDAYEVENT:FALSE
SUMMARY:September 21\, 2016 - Business to Business Networking Reception by Make your Mark
DESCRIPTION:Join us on September 21st for an evening of networking and fun with the members of your community and the Make Your Mark Team! Make Your Mark:\n\n\n	Is the Ultimate 7-step Business Success System with soul\, that is designed to grow your business to dramatically enhanced levels of success.\n	Has developed an academy style process of live courses\, online trainings and live accountability groups has been developed by working with over 30\,000 entrepreneurs in Surrey\, Calgary and Toronto (with expansion in Florida this fall).\n	Assists business owners like you\, to make more profit\, have more time off and live the lifestyle you so desires! They inject heart and soul into your business.\n\nCome out and have fun as we they a very special gift for everyone!\n\n\n\nParking: Please note that as parking is limited and restricted in the parking lot\, alternative options have been arranged at Vancity\, and along 18th Avenue.
X-ALT-DESC;FMTTYPE=text/html:<span style="font-size:12px"><span style="font-family:arial">Join us on <span><span><span class="aBn" data-term="goog_1489568491" tabindex="0"><span class="aQJ">September 21st</span></span></span></span> for an evening of networking and fun with the members of your community and the Make Your Mark Team! Make Your Mark:</span></span>\n\n<ul>\n	<li><span style="font-size:12px"><span style="font-family:arial">Is the Ultimate 7-step Business Success System&hellip\;with soul\, that is designed to grow your business to dramatically enhanced levels of success.</span></span></li>\n	<li><span style="font-size:12px"><span style="font-family:arial">Has developed an academy style process of live courses\, online trainings and live accountability groups has been developed by working with over 30\,000 entrepreneurs in Surrey\, Calgary and Toronto (with expansion in Florida this fall).</span></span></li>\n	<li><span style="font-size:12px"><span style="font-family:arial">Assists business owners like you\, to make more profit\, have more time off and live the lifestyle you so desires! They inject heart and soul into your business.</span></span></li>\n</ul>\n<span style="font-size:12px"><span style="font-family:arial">Come out and have fun as we they a very special gift for everyone!<br />\n<br />\n<strong><em>Parking: Please note that as parking is limited and restricted in the parking lot\, alternative options have been arranged at Vancity\, and along 18th Avenue.</em></strong></span></span>
LOCATION:Make Your Mark Training & Consulting 203 - 1812 152 Street\, Surrey
UID:e.749.4863
SEQUENCE:3
DTSTAMP:20260424T053015Z
URL:https://business.businessinsurrey.com/events/details/september-21-2016-business-to-business-networking-reception-by-make-your-mark-09-21-2016-4863
END:VEVENT

END:VCALENDAR
