BEGIN:VCALENDAR
VERSION:2.0
PRODID:-//ChamberMaster//Event Calendar 2.0//EN
METHOD:PUBLISH
X-PUBLISHED-TTL:P3D
REFRESH-INTERVAL:P3D
CALSCALE:GREGORIAN
BEGIN:VEVENT
DTSTART:20100917T163000Z
DTEND:20100917T173000Z
X-MICROSOFT-CDO-ALLDAYEVENT:FALSE
SUMMARY:September 17\, 2010 - Russian Delegation Meeting
DESCRIPTION:
X-ALT-DESC;FMTTYPE=text/html:
LOCATION:
UID:e.749.1677
SEQUENCE:3
DTSTAMP:20260422T121048Z
URL:https://business.businessinsurrey.com/events/details/september-17-2010-russian-delegation-meeting-09-17-2010-1677
END:VEVENT

END:VCALENDAR
