BEGIN:VCALENDAR
VERSION:2.0
PRODID:-//ChamberMaster//Event Calendar 2.0//EN
METHOD:PUBLISH
X-PUBLISHED-TTL:P3D
REFRESH-INTERVAL:P3D
CALSCALE:GREGORIAN
BEGIN:VEVENT
DTSTART:20100916T190000Z
DTEND:20100916T203000Z
X-MICROSOFT-CDO-ALLDAYEVENT:FALSE
SUMMARY:September 16\, 2010 - Environment Awards Luncheon
DESCRIPTION:KEYNOTE ADDRESS:FORMER PREMIER OF BRITISH COLUMBIA\, MAYOR OF VANCOUVER AND CITY COUNCILLOR AND EXECUTIVE DIRECTOR OF QUEST:\nMIKE HARCOURT\n\nIn 1993 Al Gore applauded Premier Harcourt for permanently preserving the jointly shared ecosystem of the Tatshenshini River and Alaska's Glacier Bay National Park in Northwest BC. Decisions we take today about land use in our cities and their energy\, transportation\, water and waste management infrastructures will have consequences in decades to come. How can we integrate these infrastructures and systems to address energy end-use and significantly reduce emissions?How can we meet the long-term climate change objectives that involve greenhouse gas (GHGs) emission reductions of 60 percent or more by 2050. This will require a fundamental transformation of how we produce\, deliver and use energy.An integrated\, community-based approach is the best way to address energy end-use and reduce green house gas emissions. WITH THE Presentation of the City of Surrey\, Surrey Board of Trade and Metro Vancouver Climate Smart Program ParticipantsAND  The Surrey Board of Trade Environment and Business Awards
X-ALT-DESC;FMTTYPE=text/html:<div><p class="MsoNormal" style="margin: 0in 0in 0pt"><b style="mso-bidi-font-weight: normal"><span lang="EN-US" style="font-family: &quot\;Arial&quot\;\,&quot\;sans-serif&quot\;"><font size="3">KEYNOTE ADDRESS:</font></span></b></p><p class="MsoNormal" style="margin: 0in 0in 0pt"><b style="mso-bidi-font-weight: normal"><span lang="EN-US" style="font-family: &quot\;Arial&quot\;\,&quot\;sans-serif&quot\;"><font size="3">FORMER PREMIER OF BRITISH COLUMBIA\, MAYOR OF VANCOUVER <o:p></o:p></font></span></b></p><p class="MsoNormal" style="margin: 0in 0in 0pt"><b style="mso-bidi-font-weight: normal"><span lang="EN-US" style="font-family: &quot\;Arial&quot\;\,&quot\;sans-serif&quot\;"><font size="3">AND CITY COUNCILLOR</font></span></b><b style="mso-bidi-font-weight: normal"><span lang="EN-US" style="font-family: &quot\;Arial&quot\;\,&quot\;sans-serif&quot\;\; font-size: 16pt"> </span></b><b style="mso-bidi-font-weight: normal"><span lang="EN-US" style="font-family: &quot\;Arial&quot\;\,&quot\;sans-serif&quot\;\; mso-bidi-font-size: 12.0pt"><font size="3">AND EXECUTIVE DIRECTOR OF QUEST:</font></span></b><b style="mso-bidi-font-weight: normal"><span lang="EN-US" style="font-family: &quot\;Arial&quot\;\,&quot\;sans-serif&quot\;\; font-size: 16pt"><br /></span></b><b style="mso-bidi-font-weight: normal"><span lang="EN-US" style="font-family: &quot\;Arial&quot\;\,&quot\;sans-serif&quot\;\; font-size: 18pt">MIKE HARCOURT</span></b><b style="mso-bidi-font-weight: normal"><span lang="EN-US" style="font-family: &quot\;Arial&quot\;\,&quot\;sans-serif&quot\;\; font-size: 16pt"><br /></span></b><span lang="EN-US" style="font-family: &quot\;Arial&quot\;\,&quot\;sans-serif&quot\;\; font-size: 8pt"><br /></span><span lang="EN-US" style="font-family: &quot\;Arial&quot\;\,&quot\;sans-serif&quot\;\; font-size: 11pt">In 1993 Al Gore applauded Premier Harcourt for permanently preserving the jointly <o:p></o:p></span></p><p class="MsoNormal" style="margin: 0in 0in 0pt"><span lang="EN-US" style="font-family: &quot\;Arial&quot\;\,&quot\;sans-serif&quot\;\; font-size: 11pt">shared ecosystem of the Tatshenshini River and Alaska&rsquo\;s Glacier Bay National Park in <o:p></o:p></span></p><p class="MsoNormal" style="margin: 0in 0in 0pt"><span lang="EN-US" style="font-family: &quot\;Arial&quot\;\,&quot\;sans-serif&quot\;\; font-size: 11pt">Northwest BC.<b style="mso-bidi-font-weight: normal"><u><o:p></o:p></u></b></span></p><p class="MsoNormal" style="margin: 0in 0in 0pt"><span lang="EN-US" style="font-family: &quot\;Arial&quot\;\,&quot\;sans-serif&quot\;\; font-size: 11pt"><o:p>&nbsp\;</o:p></span></p><p class="MsoNormal" style="margin: 0in 0in 0pt"><span lang="EN-US" style="font-family: &quot\;Arial&quot\;\,&quot\;sans-serif&quot\;\; font-size: 11pt\; mso-fareast-font-family: 'Times New Roman'">Decisions we take today about land use in our cities and their energy\, transportation\, water and waste management infrastructures will have consequences in decades to come. How can we integrate these infrastructures and systems to address energy end-use and significantly reduce emissions?</span><b style="mso-bidi-font-weight: normal"><u><span lang="EN-US" style="font-family: &quot\;Arial&quot\;\,&quot\;sans-serif&quot\;\; font-size: 11pt"><o:p></o:p></span></u></b></p><p class="MsoNormal" style="margin: 0in 0in 0pt\; mso-margin-top-alt: auto\; mso-margin-bottom-alt: auto"><span lang="EN-US" style="font-family: &quot\;Arial&quot\;\,&quot\;sans-serif&quot\;\; font-size: 11pt\; mso-fareast-font-family: 'Times New Roman'">How can we meet the long-term climate change objectives that involve greenhouse gas (GHGs) emission reductions of 60 percent or more by 2050. This will require a fundamental transformation of how we produce\, deliver and use energy.<o:p></o:p></span></p><p class="MsoNormal" style="margin: 0in 0in 0pt\; mso-margin-top-alt: auto\; mso-margin-bottom-alt: auto"><span lang="EN-US" style="font-family: &quot\;Arial&quot\;\,&quot\;sans-serif&quot\;\; font-size: 11pt\; mso-fareast-font-family: 'Times New Roman'">An integrated\, community-based approach is the best way to address energy end-use and reduce green house gas emissions.<o:p></o:p></span></p><p class="MsoNormal" style="margin: 0in 0in 0pt\; mso-margin-top-alt: auto\; mso-margin-bottom-alt: auto"><span lang="EN-US" style="font-family: &quot\;Arial&quot\;\,&quot\;sans-serif&quot\;\; font-size: 11pt\; mso-fareast-font-family: 'Times New Roman'"><o:p>&nbsp\;</o:p></span></p><p class="MsoNormal" style="margin: 0in 0in 0pt"><b style="mso-bidi-font-weight: normal"><span lang="EN-US" style="font-family: &quot\;Arial&quot\;\,&quot\;sans-serif&quot\;\; mso-bidi-font-size: 12.0pt"><font size="3">WITH THE&hellip\;<o:p></o:p></font></span></b></p><p class="MsoListParagraph" align="center" style="text-align: center\; margin: 0in 0in 0pt"><b style="mso-bidi-font-weight: normal"><span lang="EN-US" style="font-family: &quot\;Arial&quot\;\,&quot\;sans-serif&quot\;\; font-size: 12pt">Presentation of the City of Surrey\, Surrey Board of Trade and Metro Vancouver <o:p></o:p></span></b></p><p class="MsoListParagraph" align="center" style="text-align: center\; margin: 0in 0in 0pt"><b style="mso-bidi-font-weight: normal"><span lang="EN-US" style="font-family: &quot\;Arial&quot\;\,&quot\;sans-serif&quot\;\; font-size: 12pt">Climate Smart Program Participants<o:p></o:p></span></b></p><p class="MsoListParagraph" align="center" style="text-align: center\; margin: 0in 0in 0pt"><b style="mso-bidi-font-weight: normal"><span lang="EN-US" style="font-family: &quot\;Arial&quot\;\,&quot\;sans-serif&quot\;\; font-size: 12pt">AND&hellip\;&hellip\;</span></b><b style="mso-bidi-font-weight: normal"><span lang="EN-US" style="font-family: &quot\;Arial&quot\;\,&quot\;sans-serif&quot\;\; font-size: 14pt">The Surrey Board of Trade Environment and Business Awards</span></b><b style="mso-bidi-font-weight: normal"><span lang="EN-US" style="font-family: &quot\;Arial&quot\;\,&quot\;sans-serif&quot\;\; font-size: 12pt"><o:p></o:p></span></b></p><p class="MsoNormal" style="margin: 0in 0in 0pt"><b style="mso-bidi-font-weight: normal"><span lang="EN-US" style="font-family: &quot\;Arial&quot\;\,&quot\;sans-serif&quot\;\; font-size: 16pt"><o:p>&nbsp\;</o:p></span></b></p></div>
LOCATION:Eaglequest Golf Course (7778 152 Street\, Surrey)
UID:e.749.1631
SEQUENCE:3
DTSTAMP:20260422T120919Z
URL:https://business.businessinsurrey.com/events/details/september-16-2010-environment-awards-luncheon-09-16-2010-1631
END:VEVENT

END:VCALENDAR
