BEGIN:VCALENDAR
VERSION:2.0
PRODID:-//ChamberMaster//Event Calendar 2.0//EN
METHOD:PUBLISH
X-PUBLISHED-TTL:P3D
REFRESH-INTERVAL:P3D
CALSCALE:GREGORIAN
BEGIN:VEVENT
DTSTART:20160914T143000Z
DTEND:20160914T163000Z
X-MICROSOFT-CDO-ALLDAYEVENT:FALSE
SUMMARY:September 14\, 2016 - Business in the City
DESCRIPTION:Have breakfast and network with your fellow Board of Trade members at this popular morning event.\n\n\n\nYou can help welcome our new members and establish new contacts too\, while you learn more about some of the advantages of belonging to the Surrey Board of Trade.\n\n\n\nFor more information contact Moiez Babar at 604-634-0348 or membership@businessinsurrey.com.
X-ALT-DESC;FMTTYPE=text/html:Have breakfast and network with your fellow Board of Trade members at this popular morning event.<br />\n<br />\nYou can help welcome our new members and establish new contacts too\, while you learn more about some of the advantages of belonging to the Surrey Board of Trade.<br />\n<br />\nFor more information contact Moiez Babar&nbsp\;at 604-634-0348 or membership@businessinsurrey.com.
LOCATION:Sheraton Vancouver Guildford Hotel 15269 104 Avenue\, Surrey
UID:e.749.4808
SEQUENCE:3
DTSTAMP:20260424T040348Z
URL:https://business.businessinsurrey.com/events/details/september-14-2016-business-in-the-city-09-14-2016-4808
END:VEVENT

END:VCALENDAR
