BEGIN:VCALENDAR
VERSION:2.0
PRODID:-//ChamberMaster//Event Calendar 2.0//EN
METHOD:PUBLISH
X-PUBLISHED-TTL:P3D
REFRESH-INTERVAL:P3D
CALSCALE:GREGORIAN
BEGIN:VEVENT
DTSTART:20150915T000000Z
DTEND:20150915T010000Z
X-MICROSOFT-CDO-ALLDAYEVENT:FALSE
SUMMARY:September 14\, 2015 - Fiji Trade Mission Information Seminar
DESCRIPTION:The Surrey Board of Trade and Fijian Trade Commissioner from Los Angeles invites interested businesses\, wanting to do business in Fiji\, to an information session on September 14\, 2015 from 5-6pm at the Surrey Board of Trade office\, 14439 104 Avenue\, Surrey\, BC V3R 1M1.\n\n \n\nWhat will attendees learn?\n\n1.     Fiji Business and Investment Mission (Nov 21- 27 2015) details\n\n2.     Industry focus - Manufacturing\, Aquaculture\, Energy\, Film - Audio/Visual\, Agriculture\, Health\, Mining\,Tourism\, Information Communication Technology \n\n3.    Economic climate in Fiji \n\n4.    Special tax incentives\n\n\n\nOne of the goals will be to inform businesses about the SBOT Fiji Trade Mission (business and tourism-oriented) and encourage potential participants. Questions will be answered on what participants need to do to bring their Canadian business successfully into the Fijian market\, including trade mission itinerary\, travel options\, tourism and business tours.
X-ALT-DESC;FMTTYPE=text/html:<div><span style="font-size:12px"><span style="font-family:arial"><span style="color:rgb(34\,34\,34)\;font-style:normal\;font-variant:normal\;font-weight:normal\;letter-spacing:normal\;line-height:normal\;text-align:start\;text-indent:0px\;text-transform:none\;white-space:normal\;word-spacing:0px\;float:none\;display:inline!important\;background-color:rgb(255\,255\,255)">The Surrey Board of Trade and Fijian Trade Commissioner from Los Angeles invites interested businesses\, wanting to do business in Fiji\, to an information session on September 14\, 2015 from 5-6pm at the Surrey Board of Trade office\, 14439 104 Avenue\, Surrey\, BC V3R 1M1</span>.<br style="color:rgb(34\,34\,34)\;font-family:arial\;font-size:12px\;font-style:normal\;font-variant:normal\;font-weight:normal\;letter-spacing:normal\;line-height:normal\;text-align:start\;text-indent:0px\;text-transform:none\;white-space:normal\;word-spacing:0px\;background-color:rgb(255\,255\,255)" />\n<span style="color:rgb(34\,34\,34)\;font-style:normal\;font-variant:normal\;font-weight:normal\;letter-spacing:normal\;line-height:normal\;text-align:start\;text-indent:0px\;text-transform:none\;white-space:normal\;word-spacing:0px\;float:none\;display:inline!important\;background-color:rgb(255\,255\,255)">&nbsp\;</span><br style="color:rgb(34\,34\,34)\;font-family:arial\;font-size:12px\;font-style:normal\;font-variant:normal\;font-weight:normal\;letter-spacing:normal\;line-height:normal\;text-align:start\;text-indent:0px\;text-transform:none\;white-space:normal\;word-spacing:0px\;background-color:rgb(255\,255\,255)" />\n<span style="color:rgb(34\,34\,34)\;font-style:normal\;font-variant:normal\;font-weight:normal\;letter-spacing:normal\;line-height:normal\;text-align:start\;text-indent:0px\;text-transform:none\;white-space:normal\;word-spacing:0px\;background-color:rgb(255\,255\,255)"><span style="background-color:rgb(255\,255\,255)"><span style="color:rgb(34\,34\,34)"><span style="background-color:rgb(255\,255\,255)"><span style="color:rgb(34\,34\,34)"><strong>What will attendees learn?</strong></span></span></span></span></span><br style="color:rgb(34\,34\,34)\;font-family:arial\;font-size:12px\;font-style:normal\;font-variant:normal\;font-weight:normal\;letter-spacing:normal\;line-height:normal\;text-align:start\;text-indent:0px\;text-transform:none\;white-space:normal\;word-spacing:0px\;background-color:rgb(255\,255\,255)" />\n<span style="color:rgb(34\,34\,34)\;font-style:normal\;font-variant:normal\;font-weight:normal\;letter-spacing:normal\;line-height:normal\;text-align:start\;text-indent:0px\;text-transform:none\;white-space:normal\;word-spacing:0px\;float:none\;display:inline!important\;background-color:rgb(255\,255\,255)">1.&nbsp\;&nbsp\;&nbsp\;&nbsp\; Fiji Business and Investment Mission (<span><span>Nov 21</span></span>- <span><span>27 2015</span></span>) details</span><br style="color:rgb(34\,34\,34)\;font-family:arial\;font-size:12px\;font-style:normal\;font-variant:normal\;font-weight:normal\;letter-spacing:normal\;line-height:normal\;text-align:start\;text-indent:0px\;text-transform:none\;white-space:normal\;word-spacing:0px\;background-color:rgb(255\,255\,255)" />\n<span style="color:rgb(34\,34\,34)\;font-style:normal\;font-variant:normal\;font-weight:normal\;letter-spacing:normal\;line-height:normal\;text-align:start\;text-indent:0px\;text-transform:none\;white-space:normal\;word-spacing:0px\;float:none\;display:inline!important\;background-color:rgb(255\,255\,255)">2.&nbsp\;&nbsp\;&nbsp\;&nbsp\; Industry focus - Manufacturing\, Aquaculture\, Energy\, Film - Audio/Visual\, Agriculture\, Health\, Mining\,Tourism\, Information Communication Te<span class="aBn" data-term="goog_13177799" tabindex="0"><span class="aQJ">c</span></span>hnology </span></span></span></div>\n\n<div><span style="font-size:12px"><span style="font-family:arial"><span style="color:rgb(34\,34\,34)\;font-style:normal\;font-variant:normal\;font-weight:normal\;letter-spacing:normal\;line-height:normal\;text-align:start\;text-indent:0px\;text-transform:none\;white-space:normal\;word-spacing:0px\;float:none\;display:inline!important\;background-color:rgb(255\,255\,255)">3.&nbsp\;&nbsp\;&nbsp\; Economic climate in Fiji </span></span></span></div>\n\n<div><span style="font-size:12px"><span style="font-family:arial"><span style="color:rgb(34\,34\,34)\;font-style:normal\;font-variant:normal\;font-weight:normal\;letter-spacing:normal\;line-height:normal\;text-align:start\;text-indent:0px\;text-transform:none\;white-space:normal\;word-spacing:0px\;float:none\;display:inline!important\;background-color:rgb(255\,255\,255)">4.&nbsp\;&nbsp\;&nbsp\; Special tax incentives</span></span></span></div>\n\n<div><br style="color:rgb(34\,34\,34)\;font-family:arial\;font-size:12px\;font-style:normal\;font-variant:normal\;font-weight:normal\;letter-spacing:normal\;line-height:normal\;text-align:start\;text-indent:0px\;text-transform:none\;white-space:normal\;word-spacing:0px\;background-color:rgb(255\,255\,255)" />\n<span style="font-size:12px"><span style="font-family:arial"><span style="color:rgb(34\,34\,34)\;font-style:normal\;font-variant:normal\;font-weight:normal\;letter-spacing:normal\;line-height:normal\;text-align:start\;text-indent:0px\;text-transform:none\;white-space:normal\;word-spacing:0px\;float:none\;display:inline!important\;background-color:rgb(255\,255\,255)">One of the goals will be to inform businesses about the SBOT Fiji Trade Mission (business and tourism-oriented) and encourage potential participants. Questions will be answered on what participants need to do to bring their Canadian business successfully into the Fijian market\, including trade mission itinerary\, travel options\, tourism and business tours.</span></span></span><br />\n&nbsp\;</div>\n
LOCATION:Surrey Board of Trade Conference Room 101\, 14439 104 Avenue Surrey\, BC
UID:e.749.3659
SEQUENCE:3
DTSTAMP:20260423T185128Z
URL:https://business.businessinsurrey.com/events/details/september-14-2015-fiji-trade-mission-information-seminar-09-14-2015-3659
END:VEVENT

END:VCALENDAR
