BEGIN:VCALENDAR
VERSION:2.0
PRODID:-//ChamberMaster//Event Calendar 2.0//EN
METHOD:PUBLISH
X-PUBLISHED-TTL:P3D
REFRESH-INTERVAL:P3D
CALSCALE:GREGORIAN
BEGIN:VEVENT
DTSTART:20150910T183000Z
DTEND:20150910T203000Z
X-MICROSOFT-CDO-ALLDAYEVENT:FALSE
SUMMARY:September 10\, 2015 - 9th Annual Environment Awards Lunch
DESCRIPTION:Surrey Board of Trade Announces 2015 Environment and Business Awards Nominees\n\nThursday\, August 27\, 2015 at 10:01AM\n\n\n \n\nOn Thursday\, September 10\, the Surrey Board of Trade will present three winners with the Environment and Business Awards. The awards are presented to Surrey Board of Trade members or Surrey-based businesses that have demonstrated exceptional dedication to environmental leadership and/or issues. The award recipients are guided by a sense of respect for the environment and demonstrate this initiative consistently. \n\nThis year's nominees are:\n\nSMALL BUSINESS\n\n\n	The Eco Floor Store\n	eco-Options Energy Cooperative\n	Maystar Technology\n	ML Enviro Roofing and Waterproofing Inc\n	Surrey Urban Mission\n	TBF Environmental Technology Inc\n\n\nMEDIUM BUSINESS\n\n\n	PW Trenchless Construction Inc\n	Hudson Plating and Coating Ltd\n	Burns Bog Conservation Society\n	Executive Mat Service & Janitorial Supply\n\n\nLARGE BUSINESS\n\n\n	ABC Recycling\n	Port Metro Vancouver\n	Emterra Environmental\n	PGL Environmental Consultants\n\n\n                  Event Details:\n\n                  Date:     Thursday\, September 10\, 2015\n\n                  Time:     11:30 a.m.   1:30 p.m.\n\n                  Location:    Eaglequest Golf Course\, 7778 152 Street\, Surrey\n\n                  Tickets:       Members - $40 +tax\; Non-members - $55 +tax\n\n                  Register:     info@businessinsurrey.com\n\nThe Surrey Board of Trade will hand out the awards at its 9th Annual Environment and Business Awards Luncheon event featuring:\n\n\n\n\nClimate Change Action Panel\n\n\n\n\n\n	Jas Johal\, LNG Alliance\n	Nancy Olewiler\, SFU School of Public Policy\n	Merran Smith\, Clean Energy Canada\n	Mike Starchuck\, City of Surrey Councillor
X-ALT-DESC;FMTTYPE=text/html:<div class="journal-entry-text">\n<h2 class="title"><a class="journal-entry-navigation-current" href="http://www.businessinsurrey.com/wwwbusinessinsurreycom/2015/8/27/surrey-board-of-trade-announces-2015-environment-and-busines.html">Surrey Board of Trade Announces 2015 Environment and Business Awards&nbsp\;Nominees</a></h2>\n\n<div class="journal-entry-tag journal-entry-tag-post-title"><span class="posted-on">Thursday\, August 27\, 2015 at 10:01AM</span></div>\n\n<div class="body">\n<p>&nbsp\;</p>\n\n<p>On Thursday\, September 10\, the Surrey Board of Trade will present three winners with the Environment and Business Awards. The awards are presented to Surrey Board of Trade members or Surrey-based businesses that have demonstrated exceptional dedication to environmental leadership and/or issues. The award recipients are guided by a sense of respect for the environment and demonstrate this initiative consistently.&nbsp\;</p>\n\n<p>This year&rsquo\;s nominees are:</p>\n\n<p><strong>SMALL BUSINESS</strong></p>\n\n<ul>\n	<li>The Eco Floor Store</li>\n	<li>eco-Options Energy Cooperative</li>\n	<li>Maystar Technology</li>\n	<li>ML Enviro Roofing and Waterproofing Inc</li>\n	<li>Surrey Urban Mission</li>\n	<li>TBF Environmental Technology Inc</li>\n</ul>\n\n<p><strong>MEDIUM BUSINESS</strong></p>\n\n<ul>\n	<li>PW Trenchless Construction Inc</li>\n	<li>Hudson Plating and Coating Ltd</li>\n	<li>Burns Bog Conservation Society</li>\n	<li>Executive Mat Service &amp\; Janitorial Supply</li>\n</ul>\n\n<p><strong>LARGE BUSINESS</strong></p>\n\n<ul>\n	<li>ABC Recycling</li>\n	<li>Port Metro Vancouver</li>\n	<li>Emterra Environmental</li>\n	<li>PGL Environmental Consultants</li>\n</ul>\n\n<p><strong>&nbsp\;&nbsp\;&nbsp\;&nbsp\;&nbsp\;&nbsp\;&nbsp\;&nbsp\;&nbsp\;&nbsp\;&nbsp\;&nbsp\;&nbsp\;&nbsp\;&nbsp\;&nbsp\;&nbsp\; Event Details:</strong></p>\n\n<p>&nbsp\;&nbsp\;&nbsp\;&nbsp\;&nbsp\;&nbsp\;&nbsp\;&nbsp\;&nbsp\;&nbsp\;&nbsp\;&nbsp\;&nbsp\;&nbsp\;&nbsp\;&nbsp\;&nbsp\; Date:&nbsp\;&nbsp\;&nbsp\;&nbsp\; <strong>Thursday\, September 10\, 2015</strong></p>\n\n<p>&nbsp\;&nbsp\;&nbsp\;&nbsp\;&nbsp\;&nbsp\;&nbsp\;&nbsp\;&nbsp\;&nbsp\;&nbsp\;&nbsp\;&nbsp\;&nbsp\;&nbsp\;&nbsp\;&nbsp\; Time:&nbsp\;&nbsp\;&nbsp\;&nbsp\; 11:30 a.m. &ndash\; 1:30 p.m.</p>\n\n<p>&nbsp\;&nbsp\;&nbsp\;&nbsp\;&nbsp\;&nbsp\;&nbsp\;&nbsp\;&nbsp\;&nbsp\;&nbsp\;&nbsp\;&nbsp\;&nbsp\;&nbsp\;&nbsp\;&nbsp\; Location:&nbsp\;&nbsp\;&nbsp\; Eaglequest Golf Course\, 7778 152 Street\, Surrey</p>\n\n<p>&nbsp\;&nbsp\;&nbsp\;&nbsp\;&nbsp\;&nbsp\;&nbsp\;&nbsp\;&nbsp\;&nbsp\;&nbsp\;&nbsp\;&nbsp\;&nbsp\;&nbsp\;&nbsp\;&nbsp\; Tickets:&nbsp\;&nbsp\;&nbsp\;&nbsp\;&nbsp\;&nbsp\;&nbsp\;Members - $40 +tax\; Non-members - $55 +tax</p>\n\n<p>&nbsp\;&nbsp\;&nbsp\;&nbsp\;&nbsp\;&nbsp\;&nbsp\;&nbsp\;&nbsp\;&nbsp\;&nbsp\;&nbsp\;&nbsp\;&nbsp\;&nbsp\;&nbsp\;&nbsp\; Register:&nbsp\;&nbsp\;&nbsp\;&nbsp\; <a href="mailto:info@businessinsurrey.com" target="_blank">info@businessinsurrey.com</a></p>\n\n<p>The Surrey Board of Trade will hand out the awards at its 9<sup>th</sup> Annual Environment and Business Awards Luncheon event featuring:</p>\n\n<ul>\n</ul>\n\n<p><span style="text-decoration: underline\;"><strong>Climate Change Action Panel</strong></span></p>\n\n<ul>\n</ul>\n\n<ol>\n	<li>Jas Johal\, LNG Alliance</li>\n	<li>Nancy Olewiler\, SFU School of Public Policy</li>\n	<li>Merran Smith\, Clean Energy Canada</li>\n	<li>Mike Starchuck\, City of Surrey Councillor</li>\n</ol>\n</div>\n</div>\n
LOCATION:Eaglequest Golf Course (7778 152 Street)
UID:e.749.3601
SEQUENCE:3
DTSTAMP:20260423T184737Z
URL:https://business.businessinsurrey.com/events/details/september-10-2015-9th-annual-environment-awards-lunch-09-10-2015-3601
END:VEVENT

END:VCALENDAR
