BEGIN:VCALENDAR
VERSION:2.0
PRODID:-//ChamberMaster//Event Calendar 2.0//EN
METHOD:PUBLISH
X-PUBLISHED-TTL:P3D
REFRESH-INTERVAL:P3D
CALSCALE:GREGORIAN
BEGIN:VEVENT
DTSTART;VALUE=DATE:20090908
DTEND;VALUE=DATE:20090909
TRANSP:TRANSPARENT
X-MICROSOFT-CDO-ALLDAYEVENT:TRUE
SUMMARY:Sept 8\, '09 - Ralph Goodale Meeting
DESCRIPTION:
X-ALT-DESC;FMTTYPE=text/html:
LOCATION:
UID:e.749.1553
SEQUENCE:3
DTSTAMP:20260423T090907Z
URL:https://business.businessinsurrey.com/events/details/sept-8-09-ralph-goodale-meeting-09-08-2009-1553
END:VEVENT

END:VCALENDAR
