BEGIN:VCALENDAR
VERSION:2.0
PRODID:-//ChamberMaster//Event Calendar 2.0//EN
METHOD:PUBLISH
X-PUBLISHED-TTL:P3D
REFRESH-INTERVAL:P3D
CALSCALE:GREGORIAN
BEGIN:VEVENT
DTSTART;VALUE=DATE:20090923
DTEND;VALUE=DATE:20090924
TRANSP:TRANSPARENT
X-MICROSOFT-CDO-ALLDAYEVENT:TRUE
SUMMARY:Sept. 23\, '09 - Future Member Orientiation
DESCRIPTION:
X-ALT-DESC;FMTTYPE=text/html:
LOCATION:
UID:e.749.1537
SEQUENCE:3
DTSTAMP:20260423T090751Z
URL:https://business.businessinsurrey.com/events/details/sept-23-09-future-member-orientiation-09-23-2009-1537
END:VEVENT

END:VCALENDAR
