BEGIN:VCALENDAR
VERSION:2.0
PRODID:-//ChamberMaster//Event Calendar 2.0//EN
METHOD:PUBLISH
X-PUBLISHED-TTL:P3D
REFRESH-INTERVAL:P3D
CALSCALE:GREGORIAN
BEGIN:VEVENT
DTSTART;VALUE=DATE:20090910
DTEND;VALUE=DATE:20090911
TRANSP:TRANSPARENT
X-MICROSOFT-CDO-ALLDAYEVENT:TRUE
SUMMARY:Sept. '09 - Breakfast in the City
DESCRIPTION:
X-ALT-DESC;FMTTYPE=text/html:
LOCATION:
UID:e.749.1538
SEQUENCE:3
DTSTAMP:20260423T091638Z
URL:https://business.businessinsurrey.com/events/details/sept-09-breakfast-in-the-city-09-10-2009-1538
END:VEVENT

END:VCALENDAR
