BEGIN:VCALENDAR
VERSION:2.0
PRODID:-//ChamberMaster//Event Calendar 2.0//EN
METHOD:PUBLISH
X-PUBLISHED-TTL:P3D
REFRESH-INTERVAL:P3D
CALSCALE:GREGORIAN
BEGIN:VEVENT
DTSTART:20151029T160000Z
DTEND:20151029T223000Z
X-MICROSOFT-CDO-ALLDAYEVENT:FALSE
SUMMARY:Seminar: U.S. Customs Compliance and Audit
DESCRIPTION:Know What to Expect Rather than Trigger Costly Delays\n\nImporting and exporting commercial goods into and out of the United States can be a complex endeavour. It requires a good understanding of various U.S. Customs and Border Protection (CBP) and partner government agency (PGA) regulations. In this full-day seminar (half customs compliance and half customs audit) we will focus on the differences between voluntary and enforced compliance\, the definition and expectation of "reasonable care"\, the potential monetary risks of non-compliance\, required documentation and more. Throughout the day\, you will learn the importance of complying with customs regulations and what you can do to assure that you meet all of the requirements governing the movement of commercial goods. Whether you are importing or exporting as a resident or non-resident importer (NRI)\, you should be aware that at some point your business is likely to be selected for a customs audit thus making it imperative that you are in control of your business' customs process.\n\n\n\nTopics Include\n\n\n	\n		\n			\n			\n				Responsibility of the importer\n				Role of the customs broker\n				CBP and other government agencies\n				Country of origin\n				Tariff classification\n				Free trade agreement eligibility\n				Entry types\n				Required documents and forms\n			\n			\n			\n			\n				Priority trade issues\n				Customs audit triggers\n				Reasonable care\n				Record keeping\n				Risks of non-compliance\n				Liquidated damages and penalties\n				Prior disclosure\n				C-TPAT enrollment and benefits
X-ALT-DESC;FMTTYPE=text/html:<h4><em>Know What to Expect Rather than Trigger Costly Delays</em></h4>\n\n<p style="text-align:justify">Importing and exporting commercial goods into and out of the United States can be a complex endeavour. It requires a good understanding of various U.S. Customs and Border Protection (CBP) and partner government agency (PGA) regulations. In this full-day seminar <em>(half customs compliance and half customs audit)</em> we will focus on the differences between voluntary and enforced compliance\, the definition and expectation of &ldquo\;reasonable care&rdquo\;\, the potential monetary risks of non-compliance\, required documentation and more. Throughout the day\, you will learn the importance of complying with customs regulations and what you can do to assure that you meet all of the requirements governing the movement of commercial goods. Whether you are importing or exporting as a resident or non-resident importer (NRI)\, you should be aware that at some point your business is likely to be selected for a customs audit thus making it imperative that you are in control of your business&rsquo\; customs process.</p>\n\n<h3><br />\nTopics Include</h3>\n\n<table style="height:85px\; width:535px">\n	<tbody>\n		<tr>\n			<td>\n			<ul>\n				<li>Responsibility of the importer</li>\n				<li>Role of the customs broker</li>\n				<li>CBP and other government agencies</li>\n				<li>Country of origin</li>\n				<li>Tariff classification</li>\n				<li>Free trade agreement eligibility</li>\n				<li>Entry types</li>\n				<li>Required documents and forms</li>\n			</ul>\n			</td>\n			<td>\n			<ul>\n				<li>Priority trade issues</li>\n				<li>Customs audit triggers</li>\n				<li>Reasonable care</li>\n				<li>Record keeping</li>\n				<li>Risks of non-compliance</li>\n				<li>Liquidated damages and penalties</li>\n				<li>Prior disclosure</li>\n				<li>C-TPAT enrollment and benefits</li>\n			</ul>\n			</td>\n		</tr>\n	</tbody>\n</table>\n
LOCATION:Pacific Customs Brokers\, 17637 1st Avenue\, Surrey\, BC
UID:e.749.3695
SEQUENCE:3
DTSTAMP:20260423T201553Z
URL:https://business.businessinsurrey.com/events/details/seminar-u-s-customs-compliance-and-audit-10-29-2015-3695
END:VEVENT

END:VCALENDAR
