BEGIN:VCALENDAR
VERSION:2.0
PRODID:-//ChamberMaster//Event Calendar 2.0//EN
METHOD:PUBLISH
X-PUBLISHED-TTL:P3D
REFRESH-INTERVAL:P3D
CALSCALE:GREGORIAN
BEGIN:VEVENT
DTSTART:20151119T220000Z
DTEND:20151119T233000Z
X-MICROSOFT-CDO-ALLDAYEVENT:FALSE
SUMMARY:Seminar: ACI eManifest
DESCRIPTION:Avoid Border Delays Due to Incorrect or Mismatched Data\n\nCanada's ACI eManifest regulations for highway carriers in effect as of May 6\, 2015. The intent of the ACI program is to provide CBSA officers with electronic data on the cargo\, conveyance\, shipper and importer prior to the shipment's arrival at the border. Non-compliant carriers could expect to experience additional delays and be issued zero-rated penalties from July 10\, 2015 to January 10\, 2016. It is important to note that even though you may be set up for ACE eManifest into the USA you will still be required to set up for ACI eManifest into Canada.\n\nIn this 90-minute seminar we will answer questions\, offer practical solutions and help with the ACI eManifest regulations in effect.\n\n\n\nTopics Include\n\n\n	\n		\n			\n			\n				CBSA mandate and timelines\n				Transmittal times\n				Record keeping\n				Penalties and delays\n			\n			\n			\n			\n				Registering your carrier code\n				Backup plan\n				Required data lements\n				Filing options
X-ALT-DESC;FMTTYPE=text/html:<h4><em>Avoid Border Delays Due to Incorrect or Mismatched Data</em></h4>\n\n<p style="text-align:justify">Canada&#39\;s ACI eManifest regulations for highway carriers <a href="http://blog.pcb.ca/2015/05/aci-emanifest-requirements-now-mandatory/7592" target="_blank">in effect as of May 6\, 2015</a>. The intent of the ACI program is to provide CBSA officers with electronic data on the cargo\, conveyance\, shipper and importer prior to the shipment&#39\;s arrival at the border. Non-compliant carriers could expect to experience additional delays and be issued zero-rated penalties from July 10\, 2015 to January 10\, 2016. It is important to note that even though you may be set up for ACE eManifest into the USA you will still be required to set up for ACI eManifest into Canada.</p>\n\n<p style="text-align:justify">In this 90-minute seminar we will answer questions\, offer practical solutions and help with the ACI eManifest regulations in effect.</p>\n\n<h3><br />\nTopics Include</h3>\n\n<table style="height:85px\; width:535px">\n	<tbody>\n		<tr>\n			<td>\n			<ul>\n				<li>CBSA mandate and timelines</li>\n				<li>Transmittal times</li>\n				<li>Record keeping</li>\n				<li>Penalties and delays</li>\n			</ul>\n			</td>\n			<td>\n			<ul>\n				<li>Registering your carrier code</li>\n				<li>Backup plan</li>\n				<li>Required data lements</li>\n				<li>Filing options</li>\n			</ul>\n			</td>\n		</tr>\n	</tbody>\n</table>\n
LOCATION:Pacific Customs Brokers\, 17637 1st Avenue\, Surrey\, BC
UID:e.749.3698
SEQUENCE:3
DTSTAMP:20260423T214518Z
URL:https://business.businessinsurrey.com/events/details/seminar-aci-emanifest-11-19-2015-3698
END:VEVENT

END:VCALENDAR
