BEGIN:VCALENDAR
VERSION:2.0
PRODID:-//ChamberMaster//Event Calendar 2.0//EN
METHOD:PUBLISH
X-PUBLISHED-TTL:P3D
REFRESH-INTERVAL:P3D
CALSCALE:GREGORIAN
BEGIN:VEVENT
DTSTART:20161009T200000Z
DTEND:20161010T000000Z
X-MICROSOFT-CDO-ALLDAYEVENT:FALSE
SUMMARY:Semiahmoo Oktoberfest
DESCRIPTION:Welcome to Semiahmoo Oktoberfest 2016! Can't get to Bavaria but want to celebrate in style this year? Well we have you covered! Dust off your lederhosen\, checkered shirt and alpine hat and hurry down to Semiahmoo Oktoberfest for music\, great food\, warm company and cold beer! Our traditional fare includes favorites such as pickled herring\, potato salad\, chicken schnitzel\, warm large pretzels\, mustard and apple torte\, braised red cabbage and grilled Bratwurst\, roasted apple & onion\, sauerkraut braised red cabbage and more!  $25 includes entry\, traditional German fare and music  $35 includes entry\, traditional German fare\, a beer glass\, and music  $5 Beers: Hofbrau\, Paulaner\, Schalchner -Bock\, Schonramer -Saphir Bock
X-ALT-DESC;FMTTYPE=text/html:Welcome to Semiahmoo Oktoberfest 2016! Can&#39\;t get to Bavaria but want to celebrate in style this year? Well we have you covered! Dust off your lederhosen\, checkered shirt and alpine hat and hurry down to Semiahmoo Oktoberfest for music\, great food\, warm company and cold beer! Our traditional fare includes favorites such as pickled herring\, potato salad\, chicken schnitzel\, warm large pretzels\, mustard and apple torte\, braised red cabbage and grilled Bratwurst\, roasted apple &amp\; onion\, sauerkraut braised red cabbage and more! &bull\;$25 includes entry\, traditional German fare and music &bull\;$35 includes entry\, traditional German fare\, a beer glass\, and music &bull\;$5 Beers: Hofbrau\, Paulaner\, Schalchner -Bock\, Schonramer -Saphir Bock
LOCATION:Semiahmoo Resort\, Golf\, and Spa 9565 Semiahmoo Parkway\, Blaine\, WA\, US
UID:e.749.5129
SEQUENCE:3
DTSTAMP:20260424T024209Z
URL:https://business.businessinsurrey.com/events/details/semiahmoo-oktoberfest-10-09-2016-5129
END:VEVENT

END:VCALENDAR
