BEGIN:VCALENDAR
VERSION:2.0
PRODID:-//ChamberMaster//Event Calendar 2.0//EN
METHOD:PUBLISH
X-PUBLISHED-TTL:P3D
REFRESH-INTERVAL:P3D
CALSCALE:GREGORIAN
BEGIN:VEVENT
DTSTART:20161006T010000Z
DTEND:20161006T033000Z
X-MICROSOFT-CDO-ALLDAYEVENT:FALSE
SUMMARY:Seeds Entrepreneur Exchange
DESCRIPTION:SEEDS Entrepreneur Exchange More than 500 people have received free business lessons since 2012 at EE. Entrepreneur Exchange returns Oct 5\, Nov 2 & Dec 7 at the Surrey Public Library. EE brings together a variety of aspiring and established entrepreneurs through mini business classes and group activities. Reserve your spot for 1 or multiple EEs.
X-ALT-DESC;FMTTYPE=text/html:SEEDS Entrepreneur Exchange More than 500 people have received free business lessons since 2012 at EE. Entrepreneur Exchange returns Oct 5\, Nov 2 &amp\; Dec 7 at the Surrey Public Library. EE brings together a variety of aspiring and established entrepreneurs through mini business classes and group activities. Reserve your spot for 1 or multiple EEs.
LOCATION:Surrey Centre Library Surrey Public Library 10347 135 St\, Surrey\, British Columbia V3W 4M7
UID:e.749.5136
SEQUENCE:3
DTSTAMP:20260424T023648Z
URL:https://business.businessinsurrey.com/events/details/seeds-entrepreneur-exchange-10-05-2016-5136
END:VEVENT

END:VCALENDAR
