BEGIN:VCALENDAR
VERSION:2.0
PRODID:-//ChamberMaster//Event Calendar 2.0//EN
METHOD:PUBLISH
X-PUBLISHED-TTL:P3D
REFRESH-INTERVAL:P3D
CALSCALE:GREGORIAN
BEGIN:VEVENT
DTSTART:20151001T210000Z
DTEND:20151001T230000Z
X-MICROSOFT-CDO-ALLDAYEVENT:FALSE
SUMMARY:Salute to Seniors
DESCRIPTION:FREE. Join CARP & The City of White Rock to celebrate National Seniors Day. Entertainment & 'selfies' with ELVIS & his pink Cadillac\, refreshments\, beer tasting & door prizes. Meet South Surrey White Rock Federal Election Candidates. CARP demographic is 45+ so you don't have to be a senior to join in the fun nor do you have to be retired. RSVP to Denice at 604-538-5778.
X-ALT-DESC;FMTTYPE=text/html:FREE. Join CARP &amp\; The City of White Rock to celebrate National Seniors Day. Entertainment &amp\; &#39\;selfies&#39\; with ELVIS &amp\; his pink Cadillac\, refreshments\, beer tasting &amp\; door prizes. Meet South Surrey White Rock Federal Election Candidates. CARP demographic is 45+ so you don&#39\;t have to be a senior to join in the fun nor do you have to be retired. RSVP to Denice at 604-538-5778.
LOCATION:White Rock Community Centre\, 15154 Russell Ave.\, White Rock
UID:e.749.3664
SEQUENCE:3
DTSTAMP:20260423T200852Z
URL:https://business.businessinsurrey.com/events/details/salute-to-seniors-10-01-2015-3664
END:VEVENT

END:VCALENDAR
